BEGIN:VCALENDAR
VERSION:2.0
PRODID:-//MyPromiseFM - ECPv6.15.20//NONSGML v1.0//EN
CALSCALE:GREGORIAN
METHOD:PUBLISH
X-ORIGINAL-URL:https://mypromisefm.com
X-WR-CALDESC:Events for MyPromiseFM
REFRESH-INTERVAL;VALUE=DURATION:PT1H
X-Robots-Tag:noindex
X-PUBLISHED-TTL:PT1H
BEGIN:VTIMEZONE
TZID:America/Los_Angeles
BEGIN:DAYLIGHT
TZOFFSETFROM:-0800
TZOFFSETTO:-0700
TZNAME:PDT
DTSTART:20240310T100000
END:DAYLIGHT
BEGIN:STANDARD
TZOFFSETFROM:-0700
TZOFFSETTO:-0800
TZNAME:PST
DTSTART:20241103T090000
END:STANDARD
BEGIN:DAYLIGHT
TZOFFSETFROM:-0800
TZOFFSETTO:-0700
TZNAME:PDT
DTSTART:20250309T100000
END:DAYLIGHT
BEGIN:STANDARD
TZOFFSETFROM:-0700
TZOFFSETTO:-0800
TZNAME:PST
DTSTART:20251102T090000
END:STANDARD
BEGIN:DAYLIGHT
TZOFFSETFROM:-0800
TZOFFSETTO:-0700
TZNAME:PDT
DTSTART:20260308T100000
END:DAYLIGHT
BEGIN:STANDARD
TZOFFSETFROM:-0700
TZOFFSETTO:-0800
TZNAME:PST
DTSTART:20261101T090000
END:STANDARD
END:VTIMEZONE
BEGIN:VEVENT
DTSTART;TZID=America/Los_Angeles:20251205T170000
DTEND;TZID=America/Los_Angeles:20251205T200000
DTSTAMP:20260422T173330
CREATED:20251116T082124Z
LAST-MODIFIED:20251119T060504Z
UID:10009321-1764954000-1764964800@mypromisefm.com
SUMMARY:Crosspoint Church Express 2025
DESCRIPTION:Location: Crosspoint Church\n2518 N. Cedar Ave. Fresno\, CA 93703\nWhen: December 5\, 5-8pm\n\nGrab your favorite friend\, throw on your PJ’s and join Crosspoint Church\, for their 4th annual Christmas event! An amazing evening full of train rides\, crafts\, food and fun Christmas activities!!! \nTHIS IS A FREE FAMILY EVENT.\nPlease register each family member that will be attending including children. Tickets for food and train ride will be available at registration booth. \n**Make sure to wear warm clothing. This is an outside gathering.
URL:https://mypromisefm.com/event/crosspoint-church-express-2025/
LOCATION:Crosspoint Church Fresno\, 2518 N Cedar Ave.\, Fresno\, CA\, 93703
CATEGORIES:Christmas Festival
END:VEVENT
END:VCALENDAR