BEGIN:VCALENDAR
VERSION:2.0
PRODID:-//MyPromiseFM - ECPv6.15.20//NONSGML v1.0//EN
CALSCALE:GREGORIAN
METHOD:PUBLISH
X-ORIGINAL-URL:https://mypromisefm.com
X-WR-CALDESC:Events for MyPromiseFM
REFRESH-INTERVAL;VALUE=DURATION:PT1H
X-Robots-Tag:noindex
X-PUBLISHED-TTL:PT1H
BEGIN:VTIMEZONE
TZID:America/Los_Angeles
BEGIN:DAYLIGHT
TZOFFSETFROM:-0800
TZOFFSETTO:-0700
TZNAME:PDT
DTSTART:20250309T100000
END:DAYLIGHT
BEGIN:STANDARD
TZOFFSETFROM:-0700
TZOFFSETTO:-0800
TZNAME:PST
DTSTART:20251102T090000
END:STANDARD
BEGIN:DAYLIGHT
TZOFFSETFROM:-0800
TZOFFSETTO:-0700
TZNAME:PDT
DTSTART:20260308T100000
END:DAYLIGHT
BEGIN:STANDARD
TZOFFSETFROM:-0700
TZOFFSETTO:-0800
TZNAME:PST
DTSTART:20261101T090000
END:STANDARD
BEGIN:DAYLIGHT
TZOFFSETFROM:-0800
TZOFFSETTO:-0700
TZNAME:PDT
DTSTART:20270314T100000
END:DAYLIGHT
BEGIN:STANDARD
TZOFFSETFROM:-0700
TZOFFSETTO:-0800
TZNAME:PST
DTSTART:20271107T090000
END:STANDARD
END:VTIMEZONE
BEGIN:VEVENT
DTSTART;TZID=America/Los_Angeles:20260110T090000
DTEND;TZID=America/Los_Angeles:20260110T160000
DTSTAMP:20260421T124738
CREATED:20251216T035101Z
LAST-MODIFIED:20251216T035101Z
UID:10009330-1768035600-1768060800@mypromisefm.com
SUMMARY:Oasis: A Personal Day Of Retreat
DESCRIPTION:When: Friday\, January 9 from 7-9pm; Saturday\, January 10 from January 9am-4pm \nWhere: Largoza’s Barn (4235 W. Riggin Avenue\, Visalia\, CA 93291) \nFull Sail Ministries wants to invite you to come away from the busyness\, the noise\, the clutter\, the heavy burdens of life into the quiet of a personal retreat with God. Through worship\, devotional thoughts\, prayer\, and interactive reflective stations\, Oasis Retreat provides un-rushed time and space to focus your thoughts and attention on God\, and to receive the healing and refreshment He longs to give. Come for all or a portion of the time on Friday and Saturday. Coffee and water will be provided. If staying the whole day on Saturday\, feel free to bring a sack lunch to enjoy. This a free event for both men and women (teenagers and adults) with no registration necessary. Donation boxes for a freewill love offering for the work of Full Sail Ministries will be available at the Resource Table. \n\n\nFor More Information\n \n 
URL:https://mypromisefm.com/event/oasis-a-personal-day-of-retreat/2026-01-10/
LOCATION:Largoza’s Barn\, 4235 W. Riggin Avenue\, Visalia\, CA\, 93291
CATEGORIES:Retreat
END:VEVENT
END:VCALENDAR