BEGIN:VCALENDAR
VERSION:2.0
PRODID:-//MyPromiseFM - ECPv6.15.20//NONSGML v1.0//EN
CALSCALE:GREGORIAN
METHOD:PUBLISH
X-ORIGINAL-URL:https://mypromisefm.com
X-WR-CALDESC:Events for MyPromiseFM
REFRESH-INTERVAL;VALUE=DURATION:PT1H
X-Robots-Tag:noindex
X-PUBLISHED-TTL:PT1H
BEGIN:VTIMEZONE
TZID:America/Los_Angeles
BEGIN:DAYLIGHT
TZOFFSETFROM:-0800
TZOFFSETTO:-0700
TZNAME:PDT
DTSTART:20250309T100000
END:DAYLIGHT
BEGIN:STANDARD
TZOFFSETFROM:-0700
TZOFFSETTO:-0800
TZNAME:PST
DTSTART:20251102T090000
END:STANDARD
BEGIN:DAYLIGHT
TZOFFSETFROM:-0800
TZOFFSETTO:-0700
TZNAME:PDT
DTSTART:20260308T100000
END:DAYLIGHT
BEGIN:STANDARD
TZOFFSETFROM:-0700
TZOFFSETTO:-0800
TZNAME:PST
DTSTART:20261101T090000
END:STANDARD
BEGIN:DAYLIGHT
TZOFFSETFROM:-0800
TZOFFSETTO:-0700
TZNAME:PDT
DTSTART:20270314T100000
END:DAYLIGHT
BEGIN:STANDARD
TZOFFSETFROM:-0700
TZOFFSETTO:-0800
TZNAME:PST
DTSTART:20271107T090000
END:STANDARD
END:VTIMEZONE
BEGIN:VEVENT
DTSTART;TZID=America/Los_Angeles:20260425T080000
DTEND;TZID=America/Los_Angeles:20260425T120000
DTSTAMP:20260420T012504
CREATED:20260407T053939Z
LAST-MODIFIED:20260407T053939Z
UID:10009954-1777104000-1777118400@mypromisefm.com
SUMMARY:Hands In The Community Pickleball Tournament
DESCRIPTION:This contest brings together players for a day of high-energy competition\, camaraderie\, and community spirit\, connecting with HNC’s invaluable mission of providing resources to the underserved in Tulare\, Kings and lower Fresno counties. Proceeds from this event will directly support projects such as yardwork\, home repairs\, transportation\, appliance repairs\, and much more for seniors\, veterans\, single parents\, the disabled and those less fortunate. Every serve\, rally\, and point played support the stories that connect us all. \nTo become a Sponsor\, download the form below and mail it with a check. You can also pay online; under Fund\, select Pickleball. \n\n\n\n\n \nTo learn more about the growing sport of Pickleball\, click here.)
URL:https://mypromisefm.com/event/hands-in-the-community-pickleball-tournament/
LOCATION:Plaza Park\, Plaza Dr and Airport Road\, Visalia\, CA\, 93277\, United States
CATEGORIES:Pickleball
ORGANIZER;CN="Hands in the Community":MAILTO:https://hnconline.org/events
END:VEVENT
BEGIN:VEVENT
DTSTART;TZID=America/Los_Angeles:20260425T110000
DTEND;TZID=America/Los_Angeles:20260425T150000
DTSTAMP:20260420T012504
CREATED:20260308T014033Z
LAST-MODIFIED:20260308T014033Z
UID:10009951-1777114800-1777129200@mypromisefm.com
SUMMARY:Crown Valley Youth Ranch Spring Festival
DESCRIPTION:
URL:https://mypromisefm.com/event/crown-valley-youth-ranch-spring-festival-2/
LOCATION:Crown Valley Youth Ranch\, 19880 Ave. 376\, Woodlake\, CA\, 93286
END:VEVENT
BEGIN:VEVENT
DTSTART;TZID=America/Los_Angeles:20260426T100000
DTEND;TZID=America/Los_Angeles:20260426T140000
DTSTAMP:20260420T012504
CREATED:20260420T071858Z
LAST-MODIFIED:20260420T071858Z
UID:10009963-1777197600-1777212000@mypromisefm.com
SUMMARY:Orosi Health Expo
DESCRIPTION:You’re invited to the FREE Orosi Health Expo\, Sunday\, April 26\, from 10am – 2pm\, at the Orosi-Cutler Unified school district Splashpad\, near Orosi High School. A free anti-stress massage in just one of the 10-free services being offered for the community like computerized health age appraisals\, blood pressure screening\, and lung capacity tests. Volunteers will be on hand to help participants know how to improve their health and provide practical and simple ways to prevent and reverse health issues. \nNo appointments  are needed. For further information\, call (559) 420-3650 or (831) 710-7712.
URL:https://mypromisefm.com/event/orosi-health-expo/
LOCATION:Orosi High School\, 41815 Rd 128\, Orosi\, CA\, 93647
CATEGORIES:Health Expo
END:VEVENT
BEGIN:VEVENT
DTSTART;TZID=America/Los_Angeles:20260426T180000
DTEND;TZID=America/Los_Angeles:20260426T200000
DTSTAMP:20260420T012504
CREATED:20260308T012231Z
LAST-MODIFIED:20260308T012231Z
UID:10009949-1777226400-1777233600@mypromisefm.com
SUMMARY:West Coast Mennonite Men's Concert
DESCRIPTION:  \nEstablished in 1978\, the WCMMC has been blessed with the honor of worshipping our Lord through music and also raising funds for relief work around the world. This group of committed men who love to sing have joined together to form the West Coast Mennonite Men’s Chorus. Although rich in the Mennonite tradition of singing as a significant form or worship\, this group now represents men from many walks of life and various churches who commit their time and talent to this time-honored endeavor. Centered in the Fresno\, California area\, singers come from surrounding cities and states to practice and perform.  \nSeveral concerts are performed each year. Funds raised through free-will offerings at each concert help support the projects associated with disaster relief and humanitarian efforts throughout the world.  The chorus has been an active supporter of world relief projects throughout the chorus history; more than $550\,000 has been raised to date. All funds raised go to directly to the project. The expenses associated with the operation of the chorus are covered through sponsor donations and underwriting by members of the chorus itself. \nThis concert is free\, but a love offering will be taken for their ministry. \n \n\n\n\n\n Add to calendar
URL:https://mypromisefm.com/event/west-coast-mennonite-mens-concert/
LOCATION:Gateway Church\, 1100 S. Sowell\, Visalia\, CA\, 93277\, United States
CATEGORIES:Concert
GEO:36.320522;-119.3023456
X-APPLE-STRUCTURED-LOCATION;VALUE=URI;X-ADDRESS=Gateway Church 1100 S. Sowell Visalia CA 93277 United States;X-APPLE-RADIUS=500;X-TITLE=1100 S. Sowell:geo:-119.3023456,36.320522
END:VEVENT
BEGIN:VEVENT
DTSTART;TZID=America/Los_Angeles:20260501T173000
DTEND;TZID=America/Los_Angeles:20260501T210000
DTSTAMP:20260420T012504
CREATED:20260320T054912Z
LAST-MODIFIED:20260320T054912Z
UID:10009952-1777656600-1777669200@mypromisefm.com
SUMMARY:Racheal Lampa In Concert
DESCRIPTION:
URL:https://mypromisefm.com/event/racheal-lampa-in-concert/
LOCATION:Gateway Church\, 1100 S. Sowell\, Visalia\, CA\, 93277\, United States
CATEGORIES:Concert
ORGANIZER;CN="Care Pregnancy Resource Center":MAILTO:info@carepregnancycenter.com
GEO:36.320522;-119.3023456
X-APPLE-STRUCTURED-LOCATION;VALUE=URI;X-ADDRESS=Gateway Church 1100 S. Sowell Visalia CA 93277 United States;X-APPLE-RADIUS=500;X-TITLE=1100 S. Sowell:geo:-119.3023456,36.320522
END:VEVENT
BEGIN:VEVENT
DTSTART;TZID=America/Los_Angeles:20260503T180000
DTEND;TZID=America/Los_Angeles:20260503T200000
DTSTAMP:20260420T012504
CREATED:20260308T013000Z
LAST-MODIFIED:20260308T013000Z
UID:10009950-1777831200-1777838400@mypromisefm.com
SUMMARY:West Coast Mennonite Men's Chorus Concert
DESCRIPTION:  \nEstablished in 1978\, the WCMMC has been blessed with the honor of worshipping our Lord through music and also raising funds for relief work around the world. This group of committed men who love to sing have joined together to form the West Coast Mennonite Men’s Chorus. Although rich in the Mennonite tradition of singing as a significant form or worship\, this group now represents men from many walks of life and various churches who commit their time and talent to this time-honored endeavor. Centered in the Fresno\, California area\, singers come from surrounding cities and states to practice and perform.  \nSeveral concerts are performed each year. Funds raised through free-will offerings at each concert help support the projects associated with disaster relief and humanitarian efforts throughout the world.  The chorus has been an active supporter of world relief projects throughout the chorus history; more than $550\,000 has been raised to date. All funds raised go to directly to the project. The expenses associated with the operation of the chorus are covered through sponsor donations and underwriting by members of the chorus itself. \nThis concert is free\, but a love offering will be taken for their ministry. \n \n\n\n\n\n Add to calendar
URL:https://mypromisefm.com/event/west-coast-mennonite-mens-chorus-concert-5/
LOCATION:Grace Bible Church Arroyo Grande\, 100 Rodeo Drive\, Arroyo Grande\, 93420\, United States
CATEGORIES:Concert
END:VEVENT
BEGIN:VEVENT
DTSTART;TZID=America/Los_Angeles:20260508T190000
DTEND;TZID=America/Los_Angeles:20260508T210000
DTSTAMP:20260420T012504
CREATED:20260420T070355Z
LAST-MODIFIED:20260420T070355Z
UID:10009962-1778266800-1778274000@mypromisefm.com
SUMMARY:Comedian Tim Hawkins Live
DESCRIPTION:Don’t miss Tim Hawkins live for an evening full of laughter! Known for hysterical songs like “Yoga Pants” and “A Homeschool Family\,” Tim’s humor captures the quirks of family life\, marriage\, and more. Load up the car with friends\, family\, or your small group\, and get ready for a night of fun. Limited VIP tickets are available\, featuring Early Entry\, plus a Meet & Greet and photo with Tim. Don’t miss the chance to experience this event!\n\n\n\nVIP DOORS: 5:15PM\nREGULAR DOORS: 6:15PM\nSHOW: 7PM\n\n\n\n\n\n\n*Lineup subject to change.\n*Discounts cannot be combined.\n*By attending this event\, you agree to all uses of photo/video content collected.\n*Awakening Events / Awakening Foundation shows are required to follow local health and venue requirements. Changes in local health guidelines or venue policies are not grounds for a refund.
URL:https://mypromisefm.com/event/comedian-tim-hawkins-live/
LOCATION:Hanford Fox Theatre\, 326 N Irwin St.\, Hanford\, CA\, 93230
CATEGORIES:Comedy
END:VEVENT
BEGIN:VEVENT
DTSTART;TZID=America/Los_Angeles:20260514T183000
DTEND;TZID=America/Los_Angeles:20260514T200000
DTSTAMP:20260420T012504
CREATED:20260304T030520Z
LAST-MODIFIED:20260304T030520Z
UID:10009881-1778783400-1778788800@mypromisefm.com
SUMMARY:Fresno Adventist Academy Joyful Voices Spring Concert
DESCRIPTION:📅 Date: May 14th\n🕖 Time: 6:30pm\n📍 Location: 5397 E. Olive Ave.\, Fresno CA 93727 \nPhone: (559) 251-5548 \nWebsite: www.faa.org \n\n\nEvent Category: Christian Concert\nCost: Free\n\n\n\nFresno Adventist Academy (a Christian School in South-East Fresno) would be honored to have you and your family attend the FAA Joyful Voices Spring Concert. This special evening program will feature inspiring performances by the students\, uplifting music\, and a message of hope and joy. We pray this event will be a blessing to all who attend as we unite in worship and fellowship. You can find the address on our community calendar. This event is free and all are welcome.
URL:https://mypromisefm.com/event/fresno-adventist-academy-joyful-voices-spring-concert/
LOCATION:Fresno Adventist Academy\, 5397 E. Olive Ave\, Fresno\, CA\, 93727\, United States
CATEGORIES:Concert
END:VEVENT
BEGIN:VEVENT
DTSTART;TZID=America/Los_Angeles:20260706T080000
DTEND;TZID=America/Los_Angeles:20260706T120000
DTSTAMP:20260420T012504
CREATED:20260420T062703Z
LAST-MODIFIED:20260420T062703Z
UID:10009957-1783324800-1783339200@mypromisefm.com
SUMMARY:VBS — A Curious Calling
DESCRIPTION:We can’t wait for you and your kids to join us for “A Curiouser Calling” at Redemption Bible Church’s Vacation Bible School 2026! From vibrant worship to engaging teaching\, fun crafts to exciting games\, there will be something for every kid to love! Each activity is designed to teach every child about Jesus! \nVBS 2026 is open to kids who will be entering Kindergarten through 6th grade.\nCost: $10/Child \nDaily Program Schedule:\nJuly 6th – 10th\n9:00 am – 12:15 pm
URL:https://mypromisefm.com/event/vbs-a-curious-calling/2026-07-06/
LOCATION:Redemption Bible Church\, 7500 N. Millbrook Ave\, Fresno\, 93720\, United States
ATTACH;FMTTYPE=image/jpeg:https://mypromisefm.com/wp-content/uploads/2026/04/medium_image-1775078543786.jpeg
ORGANIZER;CN="Redemption Bible Church":MAILTO:kristi@redemptionfresno.org
END:VEVENT
END:VCALENDAR