BEGIN:VCALENDAR
VERSION:2.0
PRODID:-//MyPromiseFM - ECPv6.15.20//NONSGML v1.0//EN
CALSCALE:GREGORIAN
METHOD:PUBLISH
X-ORIGINAL-URL:https://mypromisefm.com
X-WR-CALDESC:Events for MyPromiseFM
REFRESH-INTERVAL;VALUE=DURATION:PT1H
X-Robots-Tag:noindex
X-PUBLISHED-TTL:PT1H
BEGIN:VTIMEZONE
TZID:America/Los_Angeles
BEGIN:DAYLIGHT
TZOFFSETFROM:-0800
TZOFFSETTO:-0700
TZNAME:PDT
DTSTART:20290311T100000
END:DAYLIGHT
BEGIN:STANDARD
TZOFFSETFROM:-0700
TZOFFSETTO:-0800
TZNAME:PST
DTSTART:20291104T090000
END:STANDARD
BEGIN:DAYLIGHT
TZOFFSETFROM:-0800
TZOFFSETTO:-0700
TZNAME:PDT
DTSTART:20300310T100000
END:DAYLIGHT
BEGIN:STANDARD
TZOFFSETFROM:-0700
TZOFFSETTO:-0800
TZNAME:PST
DTSTART:20301103T090000
END:STANDARD
BEGIN:DAYLIGHT
TZOFFSETFROM:-0800
TZOFFSETTO:-0700
TZNAME:PDT
DTSTART:20310309T100000
END:DAYLIGHT
BEGIN:STANDARD
TZOFFSETFROM:-0700
TZOFFSETTO:-0800
TZNAME:PST
DTSTART:20311102T090000
END:STANDARD
END:VTIMEZONE
BEGIN:VEVENT
DTSTART;TZID=America/Los_Angeles:20301203T180000
DTEND;TZID=America/Los_Angeles:20301203T193000
DTSTAMP:20260421T093144
CREATED:20260208T033218Z
LAST-MODIFIED:20260208T033218Z
UID:10009596-1922551200-1922556600@mypromisefm.com
SUMMARY:Anger Management Classes
DESCRIPTION:
URL:https://mypromisefm.com/event/anger-management-classes/2030-12-03/
LOCATION:Koinonia Church\, 12536 Hanford Armona Rd\, Hanford\, CA\, 93230
CATEGORIES:Classes
END:VEVENT
BEGIN:VEVENT
DTSTART;TZID=America/Los_Angeles:20301210T180000
DTEND;TZID=America/Los_Angeles:20301210T193000
DTSTAMP:20260421T093144
CREATED:20260208T033218Z
LAST-MODIFIED:20260208T033218Z
UID:10009597-1923156000-1923161400@mypromisefm.com
SUMMARY:Anger Management Classes
DESCRIPTION:
URL:https://mypromisefm.com/event/anger-management-classes/2030-12-10/
LOCATION:Koinonia Church\, 12536 Hanford Armona Rd\, Hanford\, CA\, 93230
CATEGORIES:Classes
END:VEVENT
BEGIN:VEVENT
DTSTART;TZID=America/Los_Angeles:20301217T180000
DTEND;TZID=America/Los_Angeles:20301217T193000
DTSTAMP:20260421T093144
CREATED:20260208T033218Z
LAST-MODIFIED:20260208T033218Z
UID:10009598-1923760800-1923766200@mypromisefm.com
SUMMARY:Anger Management Classes
DESCRIPTION:
URL:https://mypromisefm.com/event/anger-management-classes/2030-12-17/
LOCATION:Koinonia Church\, 12536 Hanford Armona Rd\, Hanford\, CA\, 93230
CATEGORIES:Classes
END:VEVENT
BEGIN:VEVENT
DTSTART;TZID=America/Los_Angeles:20301224T180000
DTEND;TZID=America/Los_Angeles:20301224T193000
DTSTAMP:20260421T093144
CREATED:20260208T033218Z
LAST-MODIFIED:20260208T033218Z
UID:10009599-1924365600-1924371000@mypromisefm.com
SUMMARY:Anger Management Classes
DESCRIPTION:
URL:https://mypromisefm.com/event/anger-management-classes/2030-12-24/
LOCATION:Koinonia Church\, 12536 Hanford Armona Rd\, Hanford\, CA\, 93230
CATEGORIES:Classes
END:VEVENT
BEGIN:VEVENT
DTSTART;TZID=America/Los_Angeles:20301231T180000
DTEND;TZID=America/Los_Angeles:20301231T193000
DTSTAMP:20260421T093144
CREATED:20260208T033218Z
LAST-MODIFIED:20260208T033218Z
UID:10009600-1924970400-1924975800@mypromisefm.com
SUMMARY:Anger Management Classes
DESCRIPTION:
URL:https://mypromisefm.com/event/anger-management-classes/2030-12-31/
LOCATION:Koinonia Church\, 12536 Hanford Armona Rd\, Hanford\, CA\, 93230
CATEGORIES:Classes
END:VEVENT
END:VCALENDAR