BEGIN:VCALENDAR
VERSION:2.0
PRODID:-//MyPromiseFM - ECPv6.15.20//NONSGML v1.0//EN
CALSCALE:GREGORIAN
METHOD:PUBLISH
X-ORIGINAL-URL:https://mypromisefm.com
X-WR-CALDESC:Events for MyPromiseFM
REFRESH-INTERVAL;VALUE=DURATION:PT1H
X-Robots-Tag:noindex
X-PUBLISHED-TTL:PT1H
BEGIN:VTIMEZONE
TZID:America/Los_Angeles
BEGIN:DAYLIGHT
TZOFFSETFROM:-0800
TZOFFSETTO:-0700
TZNAME:PDT
DTSTART:20180311T100000
END:DAYLIGHT
BEGIN:STANDARD
TZOFFSETFROM:-0700
TZOFFSETTO:-0800
TZNAME:PST
DTSTART:20181104T090000
END:STANDARD
BEGIN:DAYLIGHT
TZOFFSETFROM:-0800
TZOFFSETTO:-0700
TZNAME:PDT
DTSTART:20190310T100000
END:DAYLIGHT
BEGIN:STANDARD
TZOFFSETFROM:-0700
TZOFFSETTO:-0800
TZNAME:PST
DTSTART:20191103T090000
END:STANDARD
BEGIN:DAYLIGHT
TZOFFSETFROM:-0800
TZOFFSETTO:-0700
TZNAME:PDT
DTSTART:20200308T100000
END:DAYLIGHT
BEGIN:STANDARD
TZOFFSETFROM:-0700
TZOFFSETTO:-0800
TZNAME:PST
DTSTART:20201101T090000
END:STANDARD
BEGIN:DAYLIGHT
TZOFFSETFROM:-0800
TZOFFSETTO:-0700
TZNAME:PDT
DTSTART:20210314T100000
END:DAYLIGHT
BEGIN:STANDARD
TZOFFSETFROM:-0700
TZOFFSETTO:-0800
TZNAME:PST
DTSTART:20211107T090000
END:STANDARD
BEGIN:DAYLIGHT
TZOFFSETFROM:-0800
TZOFFSETTO:-0700
TZNAME:PDT
DTSTART:20220313T100000
END:DAYLIGHT
BEGIN:STANDARD
TZOFFSETFROM:-0700
TZOFFSETTO:-0800
TZNAME:PST
DTSTART:20221106T090000
END:STANDARD
BEGIN:DAYLIGHT
TZOFFSETFROM:-0800
TZOFFSETTO:-0700
TZNAME:PDT
DTSTART:20230312T100000
END:DAYLIGHT
BEGIN:STANDARD
TZOFFSETFROM:-0700
TZOFFSETTO:-0800
TZNAME:PST
DTSTART:20231105T090000
END:STANDARD
BEGIN:DAYLIGHT
TZOFFSETFROM:-0800
TZOFFSETTO:-0700
TZNAME:PDT
DTSTART:20240310T100000
END:DAYLIGHT
BEGIN:STANDARD
TZOFFSETFROM:-0700
TZOFFSETTO:-0800
TZNAME:PST
DTSTART:20241103T090000
END:STANDARD
BEGIN:DAYLIGHT
TZOFFSETFROM:-0800
TZOFFSETTO:-0700
TZNAME:PDT
DTSTART:20250309T100000
END:DAYLIGHT
BEGIN:STANDARD
TZOFFSETFROM:-0700
TZOFFSETTO:-0800
TZNAME:PST
DTSTART:20251102T090000
END:STANDARD
BEGIN:DAYLIGHT
TZOFFSETFROM:-0800
TZOFFSETTO:-0700
TZNAME:PDT
DTSTART:20260308T100000
END:DAYLIGHT
BEGIN:STANDARD
TZOFFSETFROM:-0700
TZOFFSETTO:-0800
TZNAME:PST
DTSTART:20261101T090000
END:STANDARD
END:VTIMEZONE
BEGIN:VEVENT
DTSTART;TZID=America/Los_Angeles:20251009T190000
DTEND;TZID=America/Los_Angeles:20251009T220000
DTSTAMP:20260419T165545
CREATED:20250821T030404Z
LAST-MODIFIED:20250821T030404Z
UID:10008915-1760036400-1760047200@mypromisefm.com
SUMMARY:Skillet & Switchfoot At The Big Fresno Fair
DESCRIPTION:DATE: THURS\, OCTOBER 9\nTIME: 7 P.M.\nPLACE: BIG FRESNO FAIR (PAUL PAUL THEATER)\nIn-Person Box Office Prices: $30\, $35\, $42\n(Box Office opens August 18)\nOnline Prices (all fees included): $33.90\, $39.55\, $47.46\n \nGet ready for a high-voltage night of rock anthems\, powerful lyrics and electrifying live energy as Skillet and Switchfoot co-headline the Paul Paul Theater at The Big Fresno Fair. With global fanbases\, chart-topping albums and over 30 years of combined touring experience\, these two powerhouse bands have carved out unique spaces in both mainstream and Christian rock scenes – breaking genre boundaries while staying true to their roots. From sold-out arenas across continents to streaming billions of plays\, Skillet and Switchfoot have inspired millions through music that’s both sonically bold and spiritually resonant. \nSkillet brings their signature hard rock intensity\, forged over nearly three decades\, to the stage with hits like the 5x-platinum “Monster.” With more than 22 million albums sold worldwide and two GRAMMY® nominations\, the band has become a cultural force – racking up syncs with WWE\, Marvel\, and ESPN\, while packing arenas across four continents. Known for their fiery live shows and genre-defying presence\, Skillet continues to push boundaries with Revolution\, their twelfth and first independent album\, featuring the unapologetically bold single “Unpopular.” The band’s deep connection to their message of faith and resilience makes their performance as moving as it is thunderous. \nSwitchfoot\, meanwhile\, delivers an emotionally rich brand of alternative rock\, anchored by introspective songwriting and uplifting themes. Since breaking through with their triple-platinum The Beautiful Letdown\, the Grammy-winning group has sold over 10 million albums and played for fans in more than 40 countries. Their hits – like “Meant to Live” and “Dare You to Move” – have become anthems for a generation\, blending spiritual insight with mainstream appeal. Through their BRO-AM Foundation\, Switchfoot has raised millions to support youth in their community\, proving their mission goes far beyond the music. Their live show is equal parts heartfelt and high-energy\, making for the perfect complement to Skillet’s intensity.
URL:https://mypromisefm.com/event/skillet-switchfoot-at-the-big-fresno-fair/
LOCATION:The Big Fresno Fair\, 1121 S Chance Ave.\, Fresno\, CA\, 93702
END:VEVENT
BEGIN:VEVENT
DTSTART;TZID=America/Los_Angeles:20250830T180000
DTEND;TZID=America/Los_Angeles:20250830T200000
DTSTAMP:20260419T165545
CREATED:20250818T173304Z
LAST-MODIFIED:20250818T173316Z
UID:10008913-1756576800-1756584000@mypromisefm.com
SUMMARY:A Night Out With The Boys
DESCRIPTION:“A Night Out With The Boys”\, featuring The Lighthouse Boys and The California Melody Boys. \nCome and enjoy an evening of amazing worship through song and testimony with two of California’s premier Gospel groups
URL:https://mypromisefm.com/event/a-night-out-with-the-boys/
LOCATION:Calvary Gospel Tabernacle\, 424 Sterling Rd.\, Bakersfield\, 93306\, United States
ORGANIZER;CN="The Lighthouse Boys":MAILTO:Management@thelighthouseboys.com
END:VEVENT
BEGIN:VEVENT
DTSTART;TZID=America/Los_Angeles:20240208T183000
DTEND;TZID=America/Los_Angeles:20240208T203000
DTSTAMP:20260419T165545
CREATED:20231213T023355Z
LAST-MODIFIED:20231213T023355Z
UID:10007446-1707417000-1707424200@mypromisefm.com
SUMMARY:Comedy Dessert Date Night
DESCRIPTION:A fun and faith-filled evening with Christian comedians Dan & Danielle Macaulay from Memphis. They will be sharing songs from the 60’s\, 70’s\, and 80’s as they stroll down memory lane while injecting humor all the way through their presentation. Also\, will be sharing 8 principles on how to strengthen your marriage!
URL:https://mypromisefm.com/event/comedy-dessert-date-night/
LOCATION:Peoples Church\, 7172 North Cedar Avenue\, Fresno\, CA\, 93720\, United States
ATTACH;FMTTYPE=image/png:https://mypromisefm.com/wp-content/uploads/2023/12/Married-Up.png
GEO:36.8409078;-119.7534208
X-APPLE-STRUCTURED-LOCATION;VALUE=URI;X-ADDRESS=Peoples Church 7172 North Cedar Avenue Fresno CA 93720 United States;X-APPLE-RADIUS=500;X-TITLE=7172 North Cedar Avenue:geo:-119.7534208,36.8409078
END:VEVENT
BEGIN:VEVENT
DTSTART;TZID=America/Los_Angeles:20211215T193000
DTEND;TZID=America/Los_Angeles:20211215T210000
DTSTAMP:20260419T165545
CREATED:20211029T072743Z
LAST-MODIFIED:20211029T072800Z
UID:10007002-1639596600-1639602000@mypromisefm.com
SUMMARY:The Kings Brass
DESCRIPTION:TIM ZIMMERMAN AND THE KING’S BRASS\nTIM ZIMMERMAN AND THE KING’S BRASS will be appearing in concert \nat___Riverdale Assembly of God  2813 W. Mt Whitney Ave. Riverdale CA 93656 ___ \non_December 15\, 2021 ___________________________ \nTim Zimmerman and The King’s Brass present hymn classics with a contemporary \nflair.  The King’s Brass features three trumpets\, three trombones\, a tuba\, percussion and keyboards.  These instruments blend together to create a time of innovative worship that will be enjoyed by all generations. \nSecular and sacred music critics alike applaud their concerts as “superb in every way” and “innovative and well played.”  “Truly\, an unforgettable experience!” \nThe King’s Brass\, formed four decades ago in Detroit\, is comprised of professional musicians from across the country\, who desire to use the instruments they love to lead others in praise and worship.  Based out of Fort Wayne\, Indiana\, the group plays over 150 concerts per year from coast to coast as well as international destinations. \nThe King’s Brass’ eighteenth recording is titled Christmas JOY.  This CD\, released on the Summit Records label (www.summitrecords.com)\, welcomes guest organist Samuel Metzger.  Selections include:  Good Christian Men\, Rejoice; Nutcracker – Dance of the Sugar Plums; What Child Is This?; The Little Drummer Boy; Rudolph The Red-Nosed Reindeer; Hark! the Herald Angels Sing; Carol of The Bells; Christmas Time Is Here; Joy to the World!; and many more.
URL:https://mypromisefm.com/event/the-kings-brass/
LOCATION:CA
ATTACH;FMTTYPE=image/png:https://mypromisefm.com/wp-content/uploads/2021/10/2021_kb_tails.png
END:VEVENT
BEGIN:VEVENT
DTSTART;TZID=America/Los_Angeles:20211114T150000
DTEND;TZID=America/Los_Angeles:20211114T163000
DTSTAMP:20260419T165545
CREATED:20211106T080501Z
LAST-MODIFIED:20211106T080501Z
UID:10007323-1636902000-1636907400@mypromisefm.com
SUMMARY:An Afternoon of Worship
DESCRIPTION:Join us for a city-wide service for the Porterville community and surrounding area. Hosted in an historical church building dating back to 1908.\n\nSUNDAY\, NOVEMBER 14\n3:00 PM Concert\nFirst Congregational Church\n165 East Mill Ave.\nPorterville\, CA 93257\n\n\nNow in our 44th year\, Jon Stemkoski’s CELEBRANT SINGERS is one of the nation’s premier music and missions organizations. To date\, over 3\,200 Celebrant alumni have ministered to more than 8 million people in all 50 States and 104 additional countries – including more than 6\,000 Roman Catholic parishes in the United States and countless more worldwide.\nFrom midtown Manhattan to the turbulent streets of Tehran\, Monte Carlo to the slums of Calcutta\, Miami to war-torn Northern Ireland\, over 8 million people have gathered to hear CELEBRANT SINGERS message of hope and encouragement.\n\nwww.celebrants.org
URL:https://mypromisefm.com/event/an-afternoon-of-worship/
LOCATION:First Congregational Church Porterville\, 165 East Mill Ave.\, Porterville\, CA\, 93257\, United States
ATTACH;FMTTYPE=image/jpeg:https://mypromisefm.com/wp-content/uploads/2021/11/244816228_4630196203709090_8509131245183731404_n.jpg
ORGANIZER;CN="Celebrant Singers":MAILTO:judyb@celebrants.org
END:VEVENT
BEGIN:VEVENT
DTSTART;TZID=America/Los_Angeles:20211106T170000
DTEND;TZID=America/Los_Angeles:20211106T183000
DTSTAMP:20260419T165545
CREATED:20211008T040831Z
LAST-MODIFIED:20211008T040831Z
UID:10006998-1636218000-1636223400@mypromisefm.com
SUMMARY:Concert
DESCRIPTION:The Weimar University Chamber Singers and String Ensemble will be doing a concert On Saturday\, November 6\, 5:00 p.m.\, at the Dinuba Seventh-day Adventist Church located at 325 N. Eaton Ave.\, Dinuba (parking is behind the church on Villa Ave.). Don’t miss out on this night of worship and inspiration!
URL:https://mypromisefm.com/event/concert/
LOCATION:Dinuba Seventh-day Adventist Church\, 325 N Eaton Ave.\, Dinuba\, CA\, 93618\, United States
ATTACH;FMTTYPE=image/jpeg:https://mypromisefm.com/wp-content/uploads/2021/10/Chamber-Singers-Updated-Flyer-scaled.jpg
ORGANIZER;CN="Pastor David Pikop":MAILTO:dpikop@cccsda.org
END:VEVENT
BEGIN:VEVENT
DTSTART;TZID=America/Los_Angeles:20210917T180000
DTEND;TZID=America/Los_Angeles:20210917T191500
DTSTAMP:20260419T165545
CREATED:20210911T013251Z
LAST-MODIFIED:20210911T013251Z
UID:10007322-1631901600-1631906100@mypromisefm.com
SUMMARY:Celebrant Singers Virtual Homecoming Celebration & Special Report
DESCRIPTION:“Their sound has gone out into all the earth…their words to the ends of the world.” – Romans 10:18\nCELEBRANT SINGERS have just returned home from an exciting\, unprecedented outreach in the Dominican Republic. In the midst of the second year of a worldwide pandemic\, our voices were not silenced. The gospel was enthusiastically proclaimed and received by hungry hearts!\nNeed encouragement… a faith uplift…a spiritual “shot in the arm” during these challenging days? Join us online FRIDAY\, SEPTEMBER 17\, 6:00 P.M. (Pacific Daylight Time) for our second-ever virtual live-stream event – CELEBRANT SINGERS VIRTUAL HOMECOMING CELEBRATION & SPECIAL REPORT featuring:\nEncouraging\, uplifting music…\nTestimonies of God’s goodness…\nVisual imagery from our Dominican Republic outreach…\nand a rollout of the vision for the upcoming year!\nDON’T MISS THIS FAITH-FILLED EVENT!\nwww.celebrants.org/homecoming
URL:https://mypromisefm.com/event/celebrant-singers-virtual-homecoming-celebration-special-report-2/
LOCATION:CA
ATTACH;FMTTYPE=image/jpeg:https://mypromisefm.com/wp-content/uploads/2021/09/Virtual-homecoming-logo-2021.jpg
ORGANIZER;CN="Celebrant Singers":MAILTO:judyb@celebrants.org
END:VEVENT
BEGIN:VEVENT
DTSTART;TZID=America/Los_Angeles:20200904T180000
DTEND;TZID=America/Los_Angeles:20200904T191500
DTSTAMP:20260419T165545
CREATED:20200821T012725Z
LAST-MODIFIED:20200821T012725Z
UID:10007230-1599242400-1599246900@mypromisefm.com
SUMMARY:Celebrant Singers Virtual Homecoming Celebration & Special Report
DESCRIPTION:“Their sound has gone out into all the earth…their words to the ends of the world.” – Romans 10:18 \nCELEBRANT SINGERS have just returned home from an exciting\, unprecedented outreach in the U.S. Virgin Islands. In the midst of a worldwide pandemic\, our voices were not silenced. The gospel was enthusiastically proclaimed and received by hungry hearts! \nNeed encouragement… a faith uplift…a spiritual “shot in the arm” during these challenging days? Join us online FRIDAY\, SEPTEMBER 4\, 6:00 P.M. (Pacific Daylight Time) for our first-ever virtual live-stream event – CELEBRANT SINGERS VIRTUAL HOMECOMING CELEBRATION & SPECIAL REPORT featuring: \nEncouraging\, uplifting music…\nTestimonies of God’s goodness…\nVisual imagery from our U.S. Virgin Islands outreach…\nand a rollout of the vision for the upcoming year! \nDON’T MISS THIS FAITH-FILLED FIRST-EVER EVENT!
URL:https://mypromisefm.com/event/celebrant-singers-virtual-homecoming-celebration-special-report/
LOCATION:CA
ATTACH;FMTTYPE=image/jpeg:https://mypromisefm.com/wp-content/uploads/2020/08/Virtual-homecoming-logo-w-website.jpg
ORGANIZER;CN="Celebrant Singers":MAILTO:judyb@celebrants.org
END:VEVENT
BEGIN:VEVENT
DTSTART;TZID=America/Los_Angeles:20200408T163000
DTEND;TZID=America/Los_Angeles:20200408T203000
DTSTAMP:20260419T165545
CREATED:20200313T211839Z
LAST-MODIFIED:20200313T211839Z
UID:10007220-1586363400-1586377800@mypromisefm.com
SUMMARY:Kings Remnant Passover 2020
DESCRIPTION:Shalom Family\,\nthis is one of those “Wonderful Time”of the year to Celebrate and to participate in the great even of the Passover Seder. Please read Luke 24:45-48. One thing stands out for sure “Then Jesus (he) opened their understanding\, that they (we) may understand the scriptures.” \nThis is all about His Last Supper with His disciples. \nPlease come and participate to know what God has to reveal to you personally. \nEvent: Passover 2020\nWhere: Hanford Civic Auditorium\n400 N Douty Street\, Hanford CA 93230\nWhen: April 08\, 2020 \nFREE Entrance/Event \nYou are invited to participate the great event. \nShalom. \n 
URL:https://mypromisefm.com/event/kings-remnant-passover-2020/
LOCATION:Hanford Civic Auditorium\, Hanford\, CA\, United States
ATTACH;FMTTYPE=image/png:https://mypromisefm.com/wp-content/uploads/2020/03/Kings-Remnant-Community-Passover-Flyer-2020-5.png
END:VEVENT
BEGIN:VEVENT
DTSTART;TZID=America/Los_Angeles:20200228T190000
DTEND;TZID=America/Los_Angeles:20200228T210000
DTSTAMP:20260419T165545
CREATED:20190625T012711Z
LAST-MODIFIED:20190625T012711Z
UID:10006985-1582916400-1582923600@mypromisefm.com
SUMMARY:Hands in the Community's 2nd Annual Comedy Blast
DESCRIPTION:Hands in the Community announces the return of its 2nd Annual — Comedy Blast — on February 28\, 2020 at 7:00pm. This hilarious night of comedy and magic will be at Visalia First Assembly’s beautiful 2600-seat state-of-the art auditorium located at Akers and Caldwell\, in Visalia\, Ca. \n  \nThis year’s event will feature the family-friendly combination of comedian-magician Mark Robinson and hilarious standup comedian Cleto Rodriguez. Family friendly means it will be hilarious & fun but you can bring your children without fear! \nTickets: $25 general; $30 premium-https://visaliafirst.brushfire.com/unpublished-in-review-events/454627?fbclid=IwAR06sb76WuIsbCwlES2iEeC4k7trM_NIxjhBl7nUfNjJ-sPHsoUJccopP7A \nHands in the Community is a non-profit organization established to provide crisis and short-term referral services in Tulare County. We serve as a network\, connecting services and resources between those who need them and those who can provide them. Working with existing organizations\, as well as volunteers\, we focus on not only fulfilling the needs of our community\, but on building relationships and bridging gaps.
URL:https://mypromisefm.com/event/hands-in-the-communitys-2nd-annual-comedy-blast/
LOCATION:Visalia First Assembly of God\, 3737 S Akers\, Visalia\, CA\, 93277\, United States
ATTACH;FMTTYPE=image/jpeg:https://mypromisefm.com/wp-content/uploads/2019/06/comedyblast2.jpg
ORGANIZER;CN="Hands in the Community":MAILTO:hncvisalia@yahoo.com
END:VEVENT
BEGIN:VEVENT
DTSTART;TZID=America/Los_Angeles:20190928T183000
DTEND;TZID=America/Los_Angeles:20190928T200000
DTSTAMP:20260419T165545
CREATED:20190910T131741Z
LAST-MODIFIED:20190910T131741Z
UID:10005639-1569695400-1569700800@mypromisefm.com
SUMMARY:The Ark Benefit Concert
DESCRIPTION:It is a great pleasure for The Ark Community Church to invite you to a Benefit Concert on September 28\, 2019 at 6:30pm\, 1023 N. Chinowth Visalia\, CA 93291. We believe that God is calling us to have a home of our own that can be a Center of Influence\, a lighthouse for the gospel. This will be a wholistic ministry center that connects the church to the needs of the community. We are grateful to feature Band of Brethren\, a musical group well known to many in Central California because of their participation at the Men’s Retreat and Soquel Camp Meeting.
URL:https://mypromisefm.com/event/the-ark-benefit-concert/
LOCATION:CA
ATTACH;FMTTYPE=image/jpeg:https://mypromisefm.com/wp-content/uploads/2019/09/band-of-Brethren-ark-website2.jpg
ORGANIZER;CN="The Ark Community Church":MAILTO:kelly@arkmovement.org
END:VEVENT
BEGIN:VEVENT
DTSTART;TZID=America/Los_Angeles:20190908T093000
DTEND;TZID=America/Los_Angeles:20190908T113000
DTSTAMP:20260419T165545
CREATED:20190815T224653Z
LAST-MODIFIED:20190815T224653Z
UID:10007139-1567935000-1567942200@mypromisefm.com
SUMMARY:Gilly Girls Concert at Tulare Wayside Church of the Nazarene\, 1929 E. Bardsley.
DESCRIPTION:The GillyGirls are an old-time\, Americana\, bluegrass\,  Southern Gospel band of four sisters made up of two sets of twins 15\, and 12 years of age.  Instruments include mandolin\, bass\,  fiddle\,   guitar\, and banjo.They have been singing and playing statewide since 2015. Venues include the World Ag Expo\, KMPH Fox 26 Morning Show\,  various churches\,  schools\,  live radio\,  private events  and fairs\, including the Tulare County Fair Christian Concert in 2017. \nThey won 1st place at the 2018 California State Old Time Fiddler’s Contest for their performance in the “Anything Goes”  category. \nThey will play and lead worship in the Sunday 9:30 AM service.  This will be an unique experience  in a time of worship at  1929 E Bardsley in Tulare.
URL:https://mypromisefm.com/event/gilly-girls-concert-at-tulare-wayside-church-of-the-nazarene-1929-e-bardsley/
LOCATION:Tulare Wayside Church of the Nazarene\, 1929  E. Bardsley\, Tulare \, CA\, 93274\, United States
ORGANIZER;CN="Wayside Church of the Nazarene":MAILTO:office@waysidenaz.com
END:VEVENT
BEGIN:VEVENT
DTSTART;TZID=America/Los_Angeles:20190810T190000
DTEND;TZID=America/Los_Angeles:20190810T210000
DTSTAMP:20260419T165545
CREATED:20190708T191532Z
LAST-MODIFIED:20190708T191532Z
UID:10006987-1565463600-1565470800@mypromisefm.com
SUMMARY:Celebrant Singers 42nd Annual Homecoming Concert
DESCRIPTION:One vision…42 years…50 states…101 countries…3\,200 alumni…thousands of services…and more than 8 million lives touched and changed for time and eternity! All of this to God’s glory! \nJoin us to welcome home this summer’s team members and worship together\, praising God for 42 years of faithfulness! All seats FREE! \nwww.celebrants.org
URL:https://mypromisefm.com/event/celebrant-singers-42nd-annual-homecoming-concert/
LOCATION:LJ Williams Theater\, 1001 W. Main St\, Visalia\, CA\, 93291\, United States
ATTACH;FMTTYPE=image/jpeg:https://mypromisefm.com/wp-content/uploads/2019/07/58198205211__7D66CDC3-F1A5-4518-B2E2-B271BCAA1312.jpg
ORGANIZER;CN="Celebrant Singers":MAILTO:judyb@celebrants.org
GEO:36.3300997;-119.3022031
X-APPLE-STRUCTURED-LOCATION;VALUE=URI;X-ADDRESS=LJ Williams Theater 1001 W. Main St Visalia CA 93291 United States;X-APPLE-RADIUS=500;X-TITLE=1001 W. Main St:geo:-119.3022031,36.3300997
END:VEVENT
BEGIN:VEVENT
DTSTART;TZID=America/Los_Angeles:20190714T093000
DTEND;TZID=America/Los_Angeles:20190714T110000
DTSTAMP:20260419T165545
CREATED:20190703T023634Z
LAST-MODIFIED:20190703T023634Z
UID:10006986-1563096600-1563102000@mypromisefm.com
SUMMARY:Jordan River Boys Concert
DESCRIPTION:Tulare Wayside Church of the Nazarene\, 1929 E Bardsley\,  will host Jordan River Boys\, a gospel singing group based out of Visalia California. Their heart’s desire is to sing for the Lord and see souls save for His kingdom. Group members are: Jim Kackley-Lead\, Allen White-Baritone\, and Randy Ivie-Tenor/Manager.  They had previously sung together for many years in a Quartet.  After a few year’s hiatus\, they have come together again to form the trio\, Jordan River Boys.  They have a new spirit and a new resolve with their music.
URL:https://mypromisefm.com/event/jordan-river-boys-concert/
LOCATION:Tulare Wayside Church of the Nazarene\, 1929  E. Bardsley\, Tulare \, CA\, 93274\, United States
ORGANIZER;CN="Sylvia Lambert":MAILTO:lamburgs@aol.com
END:VEVENT
BEGIN:VEVENT
DTSTART;TZID=America/Los_Angeles:20190405T190000
DTEND;TZID=America/Los_Angeles:20190406T120000
DTSTAMP:20260419T165545
CREATED:20190306T032700Z
LAST-MODIFIED:20190306T032700Z
UID:10006965-1554490800-1554552000@mypromisefm.com
SUMMARY:SHINE: A Women's Event
DESCRIPTION:SHINE is for women of all ages to connect to our great God and to others through worship\, prayer\, fellowship\, and life-changing truths from God.  This 9th annual event brings women together from our community\, churches and surrounding areas. SHINE is a two-day event\, beginning on Friday\, April 5th\, 7-9pm\, and concluding on Saturday\, April 6th\, 9am-noon.  This year’s event features speaker\, actress\, author and Bible teacher\, Allison Allen\, and Christian recording artist/songwriter\, Tim Timmons. \n  \nAllison Allen (allisonallen.net) From her kindergarten stage debut as a bovine to performing one-woman pieces with Women of Faith\, Allison Allen has always relished the power of story\, the thrill of walking in the shoes of others\, and\, most importantly\, spot-lighting the Ultimate Story-teller.  After graduating as an Andrew Carnegie Scholar from the prestigious acting program at Carnegie Mellon University\, Allison landed on Broadway in the revival of “Grease”\, and stayed there for almost two years. For three years (2007-2009)\, Allison experienced the joy of being Women of Faith’s dramatist\, performing her original one-woman pieces for over 200\,000 women in arenas around the country. She counts walking the same platform as the Women of Faith “porch-pals” among one of the profound honors of her life.  Currently\, she loves weaving Biblical teaching and acting pieces together in unexpected ways\, and is over the moon to teach at conferences and retreats around the country.  Exploring themes of purpose\, value\, and identity in original and sometimes unexpected ways\, Allison hopes to lead women on a rare journey toward the fullness of Christ’s redemption. Sheila Walsh says of her\, “Allison is a gifted writer\, a brilliant dramatist\, and a profound communicator or God’s truth.”  On a personal note\, Allison gardens at mid-night and is married to a good and handsome man – a man with whom she can joyfully wear heels. This is no small feat\, as Allison resides somewhere around 5’12”. Jonathan\, her very tall husband\, is the Worship Pastor at Grace Chapel. They have two wonderful boys\, Levi and Luke. \n  \nTim Timmons (timtimmonsmusic.com) joins us this year as our worship leader and musical guest. Tim Timmon’s life has always been one of adventure\, but for the first time\, the singer/songwriter feels awake enough to actually live it.  After nearly two decades of ministry and a lifetime as a believer\, Tim is no stranger to the tenets of the Christian faith.  Now he finds himself moving beyond believer to follower\, awake and alive to the nearness of Jesus.  His sophomore album\, Awake Our Souls (Reunion Records)\, is a portrait of his own awakening and an invitation for every listener to discover the abundant life beyond belief.  The overarching concept of the Kingdom of God\, evident in Awake Our Souls\, permeates not only Timmons’ music\, but also his daily life—a unique viewpoint shaped by a cancer diagnosis he received 14 years ago when he was given five years to live. “The gift of cancer is perspective\,” Timmons offers\, adding that his cancer remains incurable other than the healing hand of God. “It’s really the open door to speak into people’s stories.” His diagnosis may be the doorway for countless healthy\, life-giving conversations\, but Timmons has far more than a cancer diagnosis to talk about.  Tim and wife\, Hilary\, reside in TN with their four children.  When not singing and songwriting\, he loves to cook!\nSHINE: A Women’s Event:     Friday\, April 5\, 2019: 7:00-9:00pm   &   Saturday\, April 6\, 2018: 9:00am-12:00pm\n*Doors open 1 hour before start times
URL:https://mypromisefm.com/event/shine-a-womens-event/
LOCATION:Porterville Church of the Nazarene\, 2005 Olive Ave\, Porterville\, CA\, 93257\, United States
ATTACH;FMTTYPE=image/jpeg:https://mypromisefm.com/wp-content/uploads/2019/03/Shine-Enjoy-2019.jpg
ORGANIZER;CN="PortNaz":MAILTO:women@portnaz.org
GEO:36.064668;-119.063083
X-APPLE-STRUCTURED-LOCATION;VALUE=URI;X-ADDRESS=Porterville Church of the Nazarene 2005 Olive Ave Porterville CA 93257 United States;X-APPLE-RADIUS=500;X-TITLE=2005 Olive Ave:geo:-119.063083,36.064668
END:VEVENT
END:VCALENDAR