BEGIN:VCALENDAR
VERSION:2.0
PRODID:-//MyPromiseFM - ECPv6.15.20//NONSGML v1.0//EN
CALSCALE:GREGORIAN
METHOD:PUBLISH
X-ORIGINAL-URL:https://mypromisefm.com
X-WR-CALDESC:Events for MyPromiseFM
REFRESH-INTERVAL;VALUE=DURATION:PT1H
X-Robots-Tag:noindex
X-PUBLISHED-TTL:PT1H
BEGIN:VTIMEZONE
TZID:America/Los_Angeles
BEGIN:DAYLIGHT
TZOFFSETFROM:-0800
TZOFFSETTO:-0700
TZNAME:PDT
DTSTART:20170312T100000
END:DAYLIGHT
BEGIN:STANDARD
TZOFFSETFROM:-0700
TZOFFSETTO:-0800
TZNAME:PST
DTSTART:20171105T090000
END:STANDARD
BEGIN:DAYLIGHT
TZOFFSETFROM:-0800
TZOFFSETTO:-0700
TZNAME:PDT
DTSTART:20180311T100000
END:DAYLIGHT
BEGIN:STANDARD
TZOFFSETFROM:-0700
TZOFFSETTO:-0800
TZNAME:PST
DTSTART:20181104T090000
END:STANDARD
BEGIN:DAYLIGHT
TZOFFSETFROM:-0800
TZOFFSETTO:-0700
TZNAME:PDT
DTSTART:20190310T100000
END:DAYLIGHT
BEGIN:STANDARD
TZOFFSETFROM:-0700
TZOFFSETTO:-0800
TZNAME:PST
DTSTART:20191103T090000
END:STANDARD
END:VTIMEZONE
BEGIN:VEVENT
DTSTART;TZID=America/Los_Angeles:20181025T180000
DTEND;TZID=America/Los_Angeles:20181025T193000
DTSTAMP:20260419T153932
CREATED:20181010T225538Z
LAST-MODIFIED:20181010T225538Z
UID:10005601-1540490400-1540495800@mypromisefm.com
SUMMARY:Free Knee Pain Seminar
DESCRIPTION:Vance Physical Therapy and Wellness is offering a free Knee Pain seminar on October 25 from 6:00 pm to 7:30 pm. Participants will learn about the possible causes of knee pain and what can be done at home to prevent or properly care for knee injuries. There will be door prizes and a light meal will be served during an open question and answer time. Please visit www.VancePT.com/Events to reserve your free ticket.
URL:https://mypromisefm.com/event/free-knee-pain-seminar-2/
LOCATION:Vance Physical Therapy and Wellness\, 511 West Visalia Road\, Exeter\, CA\, 93221\, United States
ATTACH;FMTTYPE=image/png:https://mypromisefm.com/wp-content/uploads/2018/10/Knee-Pain-Seminar.png
ORGANIZER;CN="Josh Vance":MAILTO:maren@vancept.com
GEO:36.2975491;-119.1486583
X-APPLE-STRUCTURED-LOCATION;VALUE=URI;X-ADDRESS=Vance Physical Therapy and Wellness 511 West Visalia Road Exeter CA 93221 United States;X-APPLE-RADIUS=500;X-TITLE=511 West Visalia Road:geo:-119.1486583,36.2975491
END:VEVENT
END:VCALENDAR