BEGIN:VCALENDAR
VERSION:2.0
PRODID:-//MyPromiseFM - ECPv6.15.20//NONSGML v1.0//EN
CALSCALE:GREGORIAN
METHOD:PUBLISH
X-ORIGINAL-URL:https://mypromisefm.com
X-WR-CALDESC:Events for MyPromiseFM
REFRESH-INTERVAL;VALUE=DURATION:PT1H
X-Robots-Tag:noindex
X-PUBLISHED-TTL:PT1H
BEGIN:VTIMEZONE
TZID:America/Los_Angeles
BEGIN:DAYLIGHT
TZOFFSETFROM:-0800
TZOFFSETTO:-0700
TZNAME:PDT
DTSTART:20180311T100000
END:DAYLIGHT
BEGIN:STANDARD
TZOFFSETFROM:-0700
TZOFFSETTO:-0800
TZNAME:PST
DTSTART:20181104T090000
END:STANDARD
BEGIN:DAYLIGHT
TZOFFSETFROM:-0800
TZOFFSETTO:-0700
TZNAME:PDT
DTSTART:20190310T100000
END:DAYLIGHT
BEGIN:STANDARD
TZOFFSETFROM:-0700
TZOFFSETTO:-0800
TZNAME:PST
DTSTART:20191103T090000
END:STANDARD
BEGIN:DAYLIGHT
TZOFFSETFROM:-0800
TZOFFSETTO:-0700
TZNAME:PDT
DTSTART:20200308T100000
END:DAYLIGHT
BEGIN:STANDARD
TZOFFSETFROM:-0700
TZOFFSETTO:-0800
TZNAME:PST
DTSTART:20201101T090000
END:STANDARD
END:VTIMEZONE
BEGIN:VEVENT
DTSTART;TZID=America/Los_Angeles:20191006T080000
DTEND;TZID=America/Los_Angeles:20191006T150000
DTSTAMP:20260419T132015
CREATED:20190822T020752Z
LAST-MODIFIED:20190822T020752Z
UID:10007140-1570348800-1570374000@mypromisefm.com
SUMMARY:Free medical Clinic
DESCRIPTION:Clovis Seventh-Day Adventist church is hosting a FREE medical and dental clinic on October 6th from 8-3 P.m. No proof of insurance or citizenship required. Please arrive early for registration. Life Hope Centers are a Non-Profit organization.
URL:https://mypromisefm.com/event/free-medical-clinic/
LOCATION:Clovis Seventh-Day Adventist Church\, 2370 Helm Ave\, Clovis\, CA\, 93612
ORGANIZER;CN="Clovis Seventh-Day Adventist Church":MAILTO:leonormdiaz@yahoo.com
END:VEVENT
END:VCALENDAR