BEGIN:VCALENDAR
VERSION:2.0
PRODID:-//MyPromiseFM - ECPv6.15.20//NONSGML v1.0//EN
CALSCALE:GREGORIAN
METHOD:PUBLISH
X-WR-CALNAME:MyPromiseFM
X-ORIGINAL-URL:https://mypromisefm.com
X-WR-CALDESC:Events for MyPromiseFM
REFRESH-INTERVAL;VALUE=DURATION:PT1H
X-Robots-Tag:noindex
X-PUBLISHED-TTL:PT1H
BEGIN:VTIMEZONE
TZID:America/Los_Angeles
BEGIN:DAYLIGHT
TZOFFSETFROM:-0800
TZOFFSETTO:-0700
TZNAME:PDT
DTSTART:20170312T100000
END:DAYLIGHT
BEGIN:STANDARD
TZOFFSETFROM:-0700
TZOFFSETTO:-0800
TZNAME:PST
DTSTART:20171105T090000
END:STANDARD
BEGIN:DAYLIGHT
TZOFFSETFROM:-0800
TZOFFSETTO:-0700
TZNAME:PDT
DTSTART:20180311T100000
END:DAYLIGHT
BEGIN:STANDARD
TZOFFSETFROM:-0700
TZOFFSETTO:-0800
TZNAME:PST
DTSTART:20181104T090000
END:STANDARD
BEGIN:DAYLIGHT
TZOFFSETFROM:-0800
TZOFFSETTO:-0700
TZNAME:PDT
DTSTART:20190310T100000
END:DAYLIGHT
BEGIN:STANDARD
TZOFFSETFROM:-0700
TZOFFSETTO:-0800
TZNAME:PST
DTSTART:20191103T090000
END:STANDARD
BEGIN:DAYLIGHT
TZOFFSETFROM:-0800
TZOFFSETTO:-0700
TZNAME:PDT
DTSTART:20200308T100000
END:DAYLIGHT
BEGIN:STANDARD
TZOFFSETFROM:-0700
TZOFFSETTO:-0800
TZNAME:PST
DTSTART:20201101T090000
END:STANDARD
BEGIN:DAYLIGHT
TZOFFSETFROM:-0800
TZOFFSETTO:-0700
TZNAME:PDT
DTSTART:20210314T100000
END:DAYLIGHT
BEGIN:STANDARD
TZOFFSETFROM:-0700
TZOFFSETTO:-0800
TZNAME:PST
DTSTART:20211107T090000
END:STANDARD
BEGIN:DAYLIGHT
TZOFFSETFROM:-0800
TZOFFSETTO:-0700
TZNAME:PDT
DTSTART:20220313T100000
END:DAYLIGHT
BEGIN:STANDARD
TZOFFSETFROM:-0700
TZOFFSETTO:-0800
TZNAME:PST
DTSTART:20221106T090000
END:STANDARD
END:VTIMEZONE
BEGIN:VEVENT
DTSTART;TZID=America/Los_Angeles:20211211T190000
DTEND;TZID=America/Los_Angeles:20211211T203000
DTSTAMP:20260421T111448
CREATED:20211106T080533Z
LAST-MODIFIED:20211106T080533Z
UID:10007324-1639249200-1639254600@mypromisefm.com
SUMMARY:Voices for the King Christmas Concert
DESCRIPTION:On Saturday\, December 11\, at 7 pm\, at Zion URC\, 1220 Canal Blvd\, Ripon\, VOICES FOR THE KING will present their 11th Christmas Concert.  This 19-voice male chorus will present a variety of Christmas-themed music. The audience will also participate in singing Christmas carols.  A free-will offering will be received\, of which the net proceeds will be given to Stockton Gospel Rescue Mission.
URL:https://mypromisefm.com/event/voices-for-the-king-christmas-concert/
LOCATION:Zion URC\, 1220 Canal Blvd.\, Ripon\, CA\, 95366\, United States
ORGANIZER;CN="Delores Wolterstorff":MAILTO:wwolterstorff@verizon.net
END:VEVENT
BEGIN:VEVENT
DTSTART;TZID=America/Los_Angeles:20190518T190000
DTEND;TZID=America/Los_Angeles:20190518T203000
DTSTAMP:20260421T111448
CREATED:20190401T205418Z
LAST-MODIFIED:20190401T205418Z
UID:10006970-1558206000-1558211400@mypromisefm.com
SUMMARY:Armed Forces Day Concert
DESCRIPTION:Voices for the King\, a male chorus\, will perform inspirational and patriotic music in recognition of both national armed service members\, local law enforcement and fire department members along with a color guard presentation.
URL:https://mypromisefm.com/event/armed-forces-day-concert/
LOCATION:Ripon Christian Performing Arts Center\, 435 Maple Ave.\, Ripon\, CA\, CA\, 95366\, United States
ORGANIZER;CN="Delores Wolterstorff":MAILTO:wwolterstorff@verizon.net
END:VEVENT
BEGIN:VEVENT
DTSTART;TZID=America/Los_Angeles:20181201T190000
DTEND;TZID=America/Los_Angeles:20181201T200000
DTSTAMP:20260421T111448
CREATED:20181010T225022Z
LAST-MODIFIED:20181010T225022Z
UID:10005595-1543690800-1543694400@mypromisefm.com
SUMMARY:Voices for the King 9th Annual Christmas Concert
DESCRIPTION:Voices for the King\, a male chorus\, will present their 9th annual Christmas concert with a variety of Christmas-themed music. The audience will also participate in carol singing.  This is a great way to start off the season!
URL:https://mypromisefm.com/event/voices-for-the-king-9th-annual-christmas-concert/
LOCATION:Trinity United Presbyterian Church\, 1600 Carver Rd.\, Modesto\, CA\, 1600 Carver Rd.\, Modesto\, CA\, 95350\, United States
ORGANIZER;CN="Delores Wolterstorff":MAILTO:wwolterstorff@verizon.net
END:VEVENT
END:VCALENDAR