BEGIN:VCALENDAR
VERSION:2.0
PRODID:-//MyPromiseFM - ECPv6.15.20//NONSGML v1.0//EN
CALSCALE:GREGORIAN
METHOD:PUBLISH
X-WR-CALNAME:MyPromiseFM
X-ORIGINAL-URL:https://mypromisefm.com
X-WR-CALDESC:Events for MyPromiseFM
REFRESH-INTERVAL;VALUE=DURATION:PT1H
X-Robots-Tag:noindex
X-PUBLISHED-TTL:PT1H
BEGIN:VTIMEZONE
TZID:America/Los_Angeles
BEGIN:DAYLIGHT
TZOFFSETFROM:-0800
TZOFFSETTO:-0700
TZNAME:PDT
DTSTART:20180311T100000
END:DAYLIGHT
BEGIN:STANDARD
TZOFFSETFROM:-0700
TZOFFSETTO:-0800
TZNAME:PST
DTSTART:20181104T090000
END:STANDARD
BEGIN:DAYLIGHT
TZOFFSETFROM:-0800
TZOFFSETTO:-0700
TZNAME:PDT
DTSTART:20190310T100000
END:DAYLIGHT
BEGIN:STANDARD
TZOFFSETFROM:-0700
TZOFFSETTO:-0800
TZNAME:PST
DTSTART:20191103T090000
END:STANDARD
BEGIN:DAYLIGHT
TZOFFSETFROM:-0800
TZOFFSETTO:-0700
TZNAME:PDT
DTSTART:20200308T100000
END:DAYLIGHT
BEGIN:STANDARD
TZOFFSETFROM:-0700
TZOFFSETTO:-0800
TZNAME:PST
DTSTART:20201101T090000
END:STANDARD
END:VTIMEZONE
BEGIN:VEVENT
DTSTART;TZID=America/Los_Angeles:20190908T093000
DTEND;TZID=America/Los_Angeles:20190908T113000
DTSTAMP:20260419T131238
CREATED:20190815T224653Z
LAST-MODIFIED:20190815T224653Z
UID:10007139-1567935000-1567942200@mypromisefm.com
SUMMARY:Gilly Girls Concert at Tulare Wayside Church of the Nazarene\, 1929 E. Bardsley.
DESCRIPTION:The GillyGirls are an old-time\, Americana\, bluegrass\,  Southern Gospel band of four sisters made up of two sets of twins 15\, and 12 years of age.  Instruments include mandolin\, bass\,  fiddle\,   guitar\, and banjo.They have been singing and playing statewide since 2015. Venues include the World Ag Expo\, KMPH Fox 26 Morning Show\,  various churches\,  schools\,  live radio\,  private events  and fairs\, including the Tulare County Fair Christian Concert in 2017. \nThey won 1st place at the 2018 California State Old Time Fiddler’s Contest for their performance in the “Anything Goes”  category. \nThey will play and lead worship in the Sunday 9:30 AM service.  This will be an unique experience  in a time of worship at  1929 E Bardsley in Tulare.
URL:https://mypromisefm.com/event/gilly-girls-concert-at-tulare-wayside-church-of-the-nazarene-1929-e-bardsley/
LOCATION:Tulare Wayside Church of the Nazarene\, 1929  E. Bardsley\, Tulare \, CA\, 93274\, United States
ORGANIZER;CN="Wayside Church of the Nazarene":MAILTO:office@waysidenaz.com
END:VEVENT
END:VCALENDAR