BEGIN:VCALENDAR
VERSION:2.0
PRODID:-//MyPromiseFM - ECPv6.15.20//NONSGML v1.0//EN
CALSCALE:GREGORIAN
METHOD:PUBLISH
X-ORIGINAL-URL:https://mypromisefm.com
X-WR-CALDESC:Events for MyPromiseFM
REFRESH-INTERVAL;VALUE=DURATION:PT1H
X-Robots-Tag:noindex
X-PUBLISHED-TTL:PT1H
BEGIN:VTIMEZONE
TZID:America/Los_Angeles
BEGIN:DAYLIGHT
TZOFFSETFROM:-0800
TZOFFSETTO:-0700
TZNAME:PDT
DTSTART:20180311T100000
END:DAYLIGHT
BEGIN:STANDARD
TZOFFSETFROM:-0700
TZOFFSETTO:-0800
TZNAME:PST
DTSTART:20181104T090000
END:STANDARD
BEGIN:DAYLIGHT
TZOFFSETFROM:-0800
TZOFFSETTO:-0700
TZNAME:PDT
DTSTART:20190310T100000
END:DAYLIGHT
BEGIN:STANDARD
TZOFFSETFROM:-0700
TZOFFSETTO:-0800
TZNAME:PST
DTSTART:20191103T090000
END:STANDARD
BEGIN:DAYLIGHT
TZOFFSETFROM:-0800
TZOFFSETTO:-0700
TZNAME:PDT
DTSTART:20200308T100000
END:DAYLIGHT
BEGIN:STANDARD
TZOFFSETFROM:-0700
TZOFFSETTO:-0800
TZNAME:PST
DTSTART:20201101T090000
END:STANDARD
END:VTIMEZONE
BEGIN:VEVENT
DTSTART;TZID=America/Los_Angeles:20191019T190000
DTEND;TZID=America/Los_Angeles:20191026T190000
DTSTAMP:20260423T085855
CREATED:20191003T014052Z
LAST-MODIFIED:20191003T014052Z
UID:10005662-1571511600-1572116400@mypromisefm.com
SUMMARY:Thy Kingdom Come
DESCRIPTION:Join our guest Evangelist Speaker Kory Douglas visiting us from the East coast. October 19th-26th 2019 he will be speaking every night at 7pm Guest are welcome to our Sabbath Services Saturday’s 11am. Location 1035 E. Hanford Armona Rd. Lemoore\, Ca 93245 contact Pastor  Jose Alarcon phone 978-914-1434 @pralarcon777@yahoo.com
URL:https://mypromisefm.com/event/thy-kingdom-come/
LOCATION:CA
ATTACH;FMTTYPE=image/jpeg:https://mypromisefm.com/wp-content/uploads/2019/10/IMG_20190930_094912_8.jpg
END:VEVENT
END:VCALENDAR