BEGIN:VCALENDAR
VERSION:2.0
PRODID:-//MyPromiseFM - ECPv6.15.20//NONSGML v1.0//EN
CALSCALE:GREGORIAN
METHOD:PUBLISH
X-WR-CALNAME:MyPromiseFM
X-ORIGINAL-URL:https://mypromisefm.com
X-WR-CALDESC:Events for MyPromiseFM
REFRESH-INTERVAL;VALUE=DURATION:PT1H
X-Robots-Tag:noindex
X-PUBLISHED-TTL:PT1H
BEGIN:VTIMEZONE
TZID:America/Los_Angeles
BEGIN:DAYLIGHT
TZOFFSETFROM:-0800
TZOFFSETTO:-0700
TZNAME:PDT
DTSTART:20180311T100000
END:DAYLIGHT
BEGIN:STANDARD
TZOFFSETFROM:-0700
TZOFFSETTO:-0800
TZNAME:PST
DTSTART:20181104T090000
END:STANDARD
BEGIN:DAYLIGHT
TZOFFSETFROM:-0800
TZOFFSETTO:-0700
TZNAME:PDT
DTSTART:20190310T100000
END:DAYLIGHT
BEGIN:STANDARD
TZOFFSETFROM:-0700
TZOFFSETTO:-0800
TZNAME:PST
DTSTART:20191103T090000
END:STANDARD
BEGIN:DAYLIGHT
TZOFFSETFROM:-0800
TZOFFSETTO:-0700
TZNAME:PDT
DTSTART:20200308T100000
END:DAYLIGHT
BEGIN:STANDARD
TZOFFSETFROM:-0700
TZOFFSETTO:-0800
TZNAME:PST
DTSTART:20201101T090000
END:STANDARD
END:VTIMEZONE
BEGIN:VEVENT
DTSTART;TZID=America/Los_Angeles:20191102T120000
DTEND;TZID=America/Los_Angeles:20191102T180000
DTSTAMP:20260423T041555
CREATED:20191016T014659Z
LAST-MODIFIED:20191016T014659Z
UID:10007155-1572696000-1572717600@mypromisefm.com
SUMMARY:BBQ Tri Tip Fundraiser
DESCRIPTION:A Tri Tip barbecue fundraiser will be held on Saturday\, November 2nd\, from noon to 6 PM at Faith Community Church\, 314 W. Manning Avenue\, Reedley\, CA 93654.  The proceeds of this event will help support Operation Christmas Child and The Greatest Journey.  The cost of a whole Tri Tip and rolls is $30.00.  For more information or to pre-order\, call (559) 638-2730.
URL:https://mypromisefm.com/event/bbq-tri-tip-fundraiser/
LOCATION:CA
END:VEVENT
END:VCALENDAR