BEGIN:VCALENDAR
VERSION:2.0
PRODID:-//MyPromiseFM - ECPv6.15.20//NONSGML v1.0//EN
CALSCALE:GREGORIAN
METHOD:PUBLISH
X-ORIGINAL-URL:https://mypromisefm.com
X-WR-CALDESC:Events for MyPromiseFM
REFRESH-INTERVAL;VALUE=DURATION:PT1H
X-Robots-Tag:noindex
X-PUBLISHED-TTL:PT1H
BEGIN:VTIMEZONE
TZID:America/Los_Angeles
BEGIN:DAYLIGHT
TZOFFSETFROM:-0800
TZOFFSETTO:-0700
TZNAME:PDT
DTSTART:20230312T100000
END:DAYLIGHT
BEGIN:STANDARD
TZOFFSETFROM:-0700
TZOFFSETTO:-0800
TZNAME:PST
DTSTART:20231105T090000
END:STANDARD
BEGIN:DAYLIGHT
TZOFFSETFROM:-0800
TZOFFSETTO:-0700
TZNAME:PDT
DTSTART:20240310T100000
END:DAYLIGHT
BEGIN:STANDARD
TZOFFSETFROM:-0700
TZOFFSETTO:-0800
TZNAME:PST
DTSTART:20241103T090000
END:STANDARD
BEGIN:DAYLIGHT
TZOFFSETFROM:-0800
TZOFFSETTO:-0700
TZNAME:PDT
DTSTART:20250309T100000
END:DAYLIGHT
BEGIN:STANDARD
TZOFFSETFROM:-0700
TZOFFSETTO:-0800
TZNAME:PST
DTSTART:20251102T090000
END:STANDARD
BEGIN:DAYLIGHT
TZOFFSETFROM:-0800
TZOFFSETTO:-0700
TZNAME:PDT
DTSTART:20260308T100000
END:DAYLIGHT
BEGIN:STANDARD
TZOFFSETFROM:-0700
TZOFFSETTO:-0800
TZNAME:PST
DTSTART:20261101T090000
END:STANDARD
BEGIN:DAYLIGHT
TZOFFSETFROM:-0800
TZOFFSETTO:-0700
TZNAME:PDT
DTSTART:20270314T100000
END:DAYLIGHT
BEGIN:STANDARD
TZOFFSETFROM:-0700
TZOFFSETTO:-0800
TZNAME:PST
DTSTART:20271107T090000
END:STANDARD
END:VTIMEZONE
BEGIN:VEVENT
DTSTART;TZID=America/Los_Angeles:20260228T100000
DTEND;TZID=America/Los_Angeles:20260228T173000
DTSTAMP:20260421T175531
CREATED:20260207T033113Z
LAST-MODIFIED:20260207T033113Z
UID:10009343-1772272800-1772299800@mypromisefm.com
SUMMARY:The Blueprint of Redemption
DESCRIPTION:
URL:https://mypromisefm.com/event/the-blueprint-of-redemption/2026-02-28/
LOCATION:Exeter Seventh-Day Adventist Church\, 600 Lenox Ave.\, Exeter\, CA\, 93221
END:VEVENT
BEGIN:VEVENT
DTSTART;TZID=America/Los_Angeles:20251122T104500
DTEND;TZID=America/Los_Angeles:20251122T190000
DTSTAMP:20260421T175531
CREATED:20251111T034211Z
LAST-MODIFIED:20251111T034211Z
UID:10009319-1763808300-1763838000@mypromisefm.com
SUMMARY:Revival: Crucified With Christ
DESCRIPTION:You’re invited to a weekend of revival at the Exeter Seventh-day Adventist church\, Friday and Saturday\, November 21 & 22. The theme is Full Surrender – Crucified With Christ\, and will feature speakers Sonny Capolupo and Jason Rojas. Music will be provided by MDC Praise. It begins Friday evening at 6pm and continues Saturday morning at 10:45am with music\, food \, and fellowship throughout the day. Lunch and evening snacks will be provided\, and everything is free.
URL:https://mypromisefm.com/event/revival-crucified-with-christ/2025-11-22/
LOCATION:Exeter Seventh-Day Adventist Church\, 600 Lenox Ave.\, Exeter\, CA\, 93221
END:VEVENT
BEGIN:VEVENT
DTSTART;TZID=America/Los_Angeles:20240421T080000
DTEND;TZID=America/Los_Angeles:20240421T120000
DTSTAMP:20260421T175531
CREATED:20240410T025740Z
LAST-MODIFIED:20240410T025740Z
UID:10008369-1713686400-1713700800@mypromisefm.com
SUMMARY:Parking Lot Sale
DESCRIPTION:
URL:https://mypromisefm.com/event/parking-lot-sale/
LOCATION:Exeter Seventh-Day Adventist Church\, 600 Lenox Ave.\, Exeter\, CA\, 93221
END:VEVENT
END:VCALENDAR