BEGIN:VCALENDAR
VERSION:2.0
PRODID:-//MyPromiseFM - ECPv6.15.20//NONSGML v1.0//EN
CALSCALE:GREGORIAN
METHOD:PUBLISH
X-WR-CALNAME:MyPromiseFM
X-ORIGINAL-URL:https://mypromisefm.com
X-WR-CALDESC:Events for MyPromiseFM
REFRESH-INTERVAL;VALUE=DURATION:PT1H
X-Robots-Tag:noindex
X-PUBLISHED-TTL:PT1H
BEGIN:VTIMEZONE
TZID:America/Los_Angeles
BEGIN:DAYLIGHT
TZOFFSETFROM:-0800
TZOFFSETTO:-0700
TZNAME:PDT
DTSTART:20190310T100000
END:DAYLIGHT
BEGIN:STANDARD
TZOFFSETFROM:-0700
TZOFFSETTO:-0800
TZNAME:PST
DTSTART:20191103T090000
END:STANDARD
BEGIN:DAYLIGHT
TZOFFSETFROM:-0800
TZOFFSETTO:-0700
TZNAME:PDT
DTSTART:20200308T100000
END:DAYLIGHT
BEGIN:STANDARD
TZOFFSETFROM:-0700
TZOFFSETTO:-0800
TZNAME:PST
DTSTART:20201101T090000
END:STANDARD
BEGIN:DAYLIGHT
TZOFFSETFROM:-0800
TZOFFSETTO:-0700
TZNAME:PDT
DTSTART:20210314T100000
END:DAYLIGHT
BEGIN:STANDARD
TZOFFSETFROM:-0700
TZOFFSETTO:-0800
TZNAME:PST
DTSTART:20211107T090000
END:STANDARD
END:VTIMEZONE
BEGIN:VEVENT
DTSTART;TZID=America/Los_Angeles:20200305T190000
DTEND;TZID=America/Los_Angeles:20200305T210000
DTSTAMP:20260420T160125
CREATED:20200204T054715Z
LAST-MODIFIED:20200207T101156Z
UID:10007195-1583434800-1583442000@mypromisefm.com
SUMMARY:Sidewalk Prophets Smile Tour
DESCRIPTION:  \nSidewalk Prophets is more than just music\, and more than just entertainment we are family.  The band has a strong desire to make everyone feel loved and valued. We’re thankful for your support of this ministry. \n“We love performing\,” Dave Frey says simply and you get the impression that is the simple truth. “But we also love the people we perform for\,” he adds\, injecting a layer of complexity to the equation. \n“One of the first things we ever did as a band was to lead worship at chapel in college\,” Dave’s music colleague\, Ben McDonald interjects. “That was the connect point for us.\n \nIntegrating worship with real life – that is one of the simple truths Sidewalk Prophets has learned to live by.\nWith three major studio albums\, five #1 hits\, and eight top 5 songs under their belt Sidewalk Prophets has solidified their place among the elite artists in Christian music.  \nThe band has undergone some changes while preparing for their fourth studio release (due in 2019).  In 2016 Ben stepped off of stage but continues to be a driving force behind the bands songwriting\, creativity and success. In his new roll\, he now serves as the manager for the band.\n \nThe excitement level is high\, and the trajectory remains upward for this Indiana native band.  \nAuthentically sharing Christ. Creatively inspiring Hope. Joyfully making everyone feel like someone. \nFor Tickets
URL:https://mypromisefm.com/event/sidewalk-prophets-smile-tour/
LOCATION:First Baptist Church Merced\, 500 Buena Vista Drive\, Merced\, CA\, 95348
END:VEVENT
END:VCALENDAR