BEGIN:VCALENDAR
VERSION:2.0
PRODID:-//MyPromiseFM - ECPv6.15.20//NONSGML v1.0//EN
CALSCALE:GREGORIAN
METHOD:PUBLISH
X-WR-CALNAME:MyPromiseFM
X-ORIGINAL-URL:https://mypromisefm.com
X-WR-CALDESC:Events for MyPromiseFM
REFRESH-INTERVAL;VALUE=DURATION:PT1H
X-Robots-Tag:noindex
X-PUBLISHED-TTL:PT1H
BEGIN:VTIMEZONE
TZID:America/Los_Angeles
BEGIN:DAYLIGHT
TZOFFSETFROM:-0800
TZOFFSETTO:-0700
TZNAME:PDT
DTSTART:20200308T100000
END:DAYLIGHT
BEGIN:STANDARD
TZOFFSETFROM:-0700
TZOFFSETTO:-0800
TZNAME:PST
DTSTART:20201101T090000
END:STANDARD
BEGIN:DAYLIGHT
TZOFFSETFROM:-0800
TZOFFSETTO:-0700
TZNAME:PDT
DTSTART:20210314T100000
END:DAYLIGHT
BEGIN:STANDARD
TZOFFSETFROM:-0700
TZOFFSETTO:-0800
TZNAME:PST
DTSTART:20211107T090000
END:STANDARD
BEGIN:DAYLIGHT
TZOFFSETFROM:-0800
TZOFFSETTO:-0700
TZNAME:PDT
DTSTART:20220313T100000
END:DAYLIGHT
BEGIN:STANDARD
TZOFFSETFROM:-0700
TZOFFSETTO:-0800
TZNAME:PST
DTSTART:20221106T090000
END:STANDARD
END:VTIMEZONE
BEGIN:VEVENT
DTSTART;TZID=America/Los_Angeles:20211114T150000
DTEND;TZID=America/Los_Angeles:20211114T163000
DTSTAMP:20260419T151459
CREATED:20211106T080501Z
LAST-MODIFIED:20211106T080501Z
UID:10007323-1636902000-1636907400@mypromisefm.com
SUMMARY:An Afternoon of Worship
DESCRIPTION:Join us for a city-wide service for the Porterville community and surrounding area. Hosted in an historical church building dating back to 1908.\n\nSUNDAY\, NOVEMBER 14\n3:00 PM Concert\nFirst Congregational Church\n165 East Mill Ave.\nPorterville\, CA 93257\n\n\nNow in our 44th year\, Jon Stemkoski’s CELEBRANT SINGERS is one of the nation’s premier music and missions organizations. To date\, over 3\,200 Celebrant alumni have ministered to more than 8 million people in all 50 States and 104 additional countries – including more than 6\,000 Roman Catholic parishes in the United States and countless more worldwide.\nFrom midtown Manhattan to the turbulent streets of Tehran\, Monte Carlo to the slums of Calcutta\, Miami to war-torn Northern Ireland\, over 8 million people have gathered to hear CELEBRANT SINGERS message of hope and encouragement.\n\nwww.celebrants.org
URL:https://mypromisefm.com/event/an-afternoon-of-worship/
LOCATION:First Congregational Church Porterville\, 165 East Mill Ave.\, Porterville\, CA\, 93257\, United States
ATTACH;FMTTYPE=image/jpeg:https://mypromisefm.com/wp-content/uploads/2021/11/244816228_4630196203709090_8509131245183731404_n.jpg
ORGANIZER;CN="Celebrant Singers":MAILTO:judyb@celebrants.org
END:VEVENT
END:VCALENDAR