BEGIN:VCALENDAR
VERSION:2.0
PRODID:-//MyPromiseFM - ECPv6.15.20//NONSGML v1.0//EN
CALSCALE:GREGORIAN
METHOD:PUBLISH
X-WR-CALNAME:MyPromiseFM
X-ORIGINAL-URL:https://mypromisefm.com
X-WR-CALDESC:Events for MyPromiseFM
REFRESH-INTERVAL;VALUE=DURATION:PT1H
X-Robots-Tag:noindex
X-PUBLISHED-TTL:PT1H
BEGIN:VTIMEZONE
TZID:America/Los_Angeles
BEGIN:DAYLIGHT
TZOFFSETFROM:-0800
TZOFFSETTO:-0700
TZNAME:PDT
DTSTART:20190310T100000
END:DAYLIGHT
BEGIN:STANDARD
TZOFFSETFROM:-0700
TZOFFSETTO:-0800
TZNAME:PST
DTSTART:20191103T090000
END:STANDARD
BEGIN:DAYLIGHT
TZOFFSETFROM:-0800
TZOFFSETTO:-0700
TZNAME:PDT
DTSTART:20200308T100000
END:DAYLIGHT
BEGIN:STANDARD
TZOFFSETFROM:-0700
TZOFFSETTO:-0800
TZNAME:PST
DTSTART:20201101T090000
END:STANDARD
BEGIN:DAYLIGHT
TZOFFSETFROM:-0800
TZOFFSETTO:-0700
TZNAME:PDT
DTSTART:20210314T100000
END:DAYLIGHT
BEGIN:STANDARD
TZOFFSETFROM:-0700
TZOFFSETTO:-0800
TZNAME:PST
DTSTART:20211107T090000
END:STANDARD
END:VTIMEZONE
BEGIN:VEVENT
DTSTART;TZID=America/Los_Angeles:20200905T093000
DTEND;TZID=America/Los_Angeles:20200905T113000
DTSTAMP:20260420T120004
CREATED:20200718T011805Z
LAST-MODIFIED:20200718T012653Z
UID:10007222-1599298200-1599305400@mypromisefm.com
SUMMARY:Operation Christmas Child Project Leader Workshop
DESCRIPTION:Operation Christmas Child is a project of Samaritan’s Purse\, an international Christian relief and evangelism organization headed by Franklin Graham. The mission of Operation Christmas Child is to demonstrate God’s love in a tangible way to children in need around the world\, and together with the local church worldwide\, to share the Good News of Jesus Christ. Since 1993\, Operation Christmas Child has collected and delivered more than 157 million gift-filled shoeboxes to children in more than 160 countries and territories. For many of these children\, the gift-filled shoebox is the first gift they have ever received. \nNow is your time to get involved and become a leader in your area and become inspired. \nFor more information\, call: (559) 688-6058 \nOperation Christmas Child National Collection Week is November 16-23 \n 
URL:https://mypromisefm.com/event/operation-christmas-child-project-leader-workshop/
LOCATION:First Presbyterian Church Hanford\, 415 N. Redington\, Hanford\, CA\, 93230
END:VEVENT
END:VCALENDAR