BEGIN:VCALENDAR
VERSION:2.0
PRODID:-//MyPromiseFM - ECPv6.15.20//NONSGML v1.0//EN
CALSCALE:GREGORIAN
METHOD:PUBLISH
X-WR-CALNAME:MyPromiseFM
X-ORIGINAL-URL:https://mypromisefm.com
X-WR-CALDESC:Events for MyPromiseFM
REFRESH-INTERVAL;VALUE=DURATION:PT1H
X-Robots-Tag:noindex
X-PUBLISHED-TTL:PT1H
BEGIN:VTIMEZONE
TZID:America/Los_Angeles
BEGIN:DAYLIGHT
TZOFFSETFROM:-0800
TZOFFSETTO:-0700
TZNAME:PDT
DTSTART:20210314T100000
END:DAYLIGHT
BEGIN:STANDARD
TZOFFSETFROM:-0700
TZOFFSETTO:-0800
TZNAME:PST
DTSTART:20211107T090000
END:STANDARD
BEGIN:DAYLIGHT
TZOFFSETFROM:-0800
TZOFFSETTO:-0700
TZNAME:PDT
DTSTART:20220313T100000
END:DAYLIGHT
BEGIN:STANDARD
TZOFFSETFROM:-0700
TZOFFSETTO:-0800
TZNAME:PST
DTSTART:20221106T090000
END:STANDARD
BEGIN:DAYLIGHT
TZOFFSETFROM:-0800
TZOFFSETTO:-0700
TZNAME:PDT
DTSTART:20230312T100000
END:DAYLIGHT
BEGIN:STANDARD
TZOFFSETFROM:-0700
TZOFFSETTO:-0800
TZNAME:PST
DTSTART:20231105T090000
END:STANDARD
END:VTIMEZONE
BEGIN:VEVENT
DTSTART;TZID=America/Los_Angeles:20220430T080000
DTEND;TZID=America/Los_Angeles:20220430T150000
DTSTAMP:20260420T120306
CREATED:20220406T002542Z
LAST-MODIFIED:20220406T002542Z
UID:10007357-1651305600-1651330800@mypromisefm.com
SUMMARY:THE 15 INVALUABLE LAWS OF GROWTH
DESCRIPTION:Presented by Paul D. Everts\, Founder – BAND TOGETHER \nAPRIL 30th\, 2022 – 8am Registration; Seminar 9am–3pm\n\nLocation: The First Presbyterian Church of Visalia\, CA 93291\nEntrance to event is 210 W. Center Avenue.  Participants can walk through “Cafe 210.”  The event is located in the church’s fellowship room downstairs. Participants will see signs. (Notice: This event is not affiliated with or hosted by the church.) \nAdmission\n\nIndividual Ticket (1 Person): $55\nParty of 8: $400\nFor parties of 8 or more there will be a discounted rate. \nSpeaker Sponsor $500\nThe Speaker Sponsor is an opportunity for businesses and individuals who want to invest in our community.  The purpose of this sponsorship is to lower the cost of the event so more people are able to attend. \nFor Tickets
URL:https://mypromisefm.com/event/the-15-invaluable-laws-of-growth/
LOCATION:First Presbyterian Church of Visalia\, 215 N Locust St.\, Visalia\, CA\, 93291
END:VEVENT
END:VCALENDAR