BEGIN:VCALENDAR
VERSION:2.0
PRODID:-//MyPromiseFM - ECPv6.15.20//NONSGML v1.0//EN
CALSCALE:GREGORIAN
METHOD:PUBLISH
X-ORIGINAL-URL:https://mypromisefm.com
X-WR-CALDESC:Events for MyPromiseFM
REFRESH-INTERVAL;VALUE=DURATION:PT1H
X-Robots-Tag:noindex
X-PUBLISHED-TTL:PT1H
BEGIN:VTIMEZONE
TZID:America/Los_Angeles
BEGIN:DAYLIGHT
TZOFFSETFROM:-0800
TZOFFSETTO:-0700
TZNAME:PDT
DTSTART:20180311T100000
END:DAYLIGHT
BEGIN:STANDARD
TZOFFSETFROM:-0700
TZOFFSETTO:-0800
TZNAME:PST
DTSTART:20181104T090000
END:STANDARD
BEGIN:DAYLIGHT
TZOFFSETFROM:-0800
TZOFFSETTO:-0700
TZNAME:PDT
DTSTART:20190310T100000
END:DAYLIGHT
BEGIN:STANDARD
TZOFFSETFROM:-0700
TZOFFSETTO:-0800
TZNAME:PST
DTSTART:20191103T090000
END:STANDARD
BEGIN:DAYLIGHT
TZOFFSETFROM:-0800
TZOFFSETTO:-0700
TZNAME:PDT
DTSTART:20200308T100000
END:DAYLIGHT
BEGIN:STANDARD
TZOFFSETFROM:-0700
TZOFFSETTO:-0800
TZNAME:PST
DTSTART:20201101T090000
END:STANDARD
BEGIN:DAYLIGHT
TZOFFSETFROM:-0800
TZOFFSETTO:-0700
TZNAME:PDT
DTSTART:20210314T100000
END:DAYLIGHT
BEGIN:STANDARD
TZOFFSETFROM:-0700
TZOFFSETTO:-0800
TZNAME:PST
DTSTART:20211107T090000
END:STANDARD
BEGIN:DAYLIGHT
TZOFFSETFROM:-0800
TZOFFSETTO:-0700
TZNAME:PDT
DTSTART:20220313T100000
END:DAYLIGHT
BEGIN:STANDARD
TZOFFSETFROM:-0700
TZOFFSETTO:-0800
TZNAME:PST
DTSTART:20221106T090000
END:STANDARD
BEGIN:DAYLIGHT
TZOFFSETFROM:-0800
TZOFFSETTO:-0700
TZNAME:PDT
DTSTART:20230312T100000
END:DAYLIGHT
BEGIN:STANDARD
TZOFFSETFROM:-0700
TZOFFSETTO:-0800
TZNAME:PST
DTSTART:20231105T090000
END:STANDARD
BEGIN:DAYLIGHT
TZOFFSETFROM:-0800
TZOFFSETTO:-0700
TZNAME:PDT
DTSTART:20240310T100000
END:DAYLIGHT
BEGIN:STANDARD
TZOFFSETFROM:-0700
TZOFFSETTO:-0800
TZNAME:PST
DTSTART:20241103T090000
END:STANDARD
BEGIN:DAYLIGHT
TZOFFSETFROM:-0800
TZOFFSETTO:-0700
TZNAME:PDT
DTSTART:20250309T100000
END:DAYLIGHT
BEGIN:STANDARD
TZOFFSETFROM:-0700
TZOFFSETTO:-0800
TZNAME:PST
DTSTART:20251102T090000
END:STANDARD
BEGIN:DAYLIGHT
TZOFFSETFROM:-0800
TZOFFSETTO:-0700
TZNAME:PDT
DTSTART:20260308T100000
END:DAYLIGHT
BEGIN:STANDARD
TZOFFSETFROM:-0700
TZOFFSETTO:-0800
TZNAME:PST
DTSTART:20261101T090000
END:STANDARD
BEGIN:DAYLIGHT
TZOFFSETFROM:-0800
TZOFFSETTO:-0700
TZNAME:PDT
DTSTART:20270314T100000
END:DAYLIGHT
BEGIN:STANDARD
TZOFFSETFROM:-0700
TZOFFSETTO:-0800
TZNAME:PST
DTSTART:20271107T090000
END:STANDARD
END:VTIMEZONE
BEGIN:VEVENT
DTSTART;TZID=America/Los_Angeles:20260412T180000
DTEND;TZID=America/Los_Angeles:20260412T180000
DTSTAMP:20260422T160231
CREATED:20260308T011647Z
LAST-MODIFIED:20260308T011647Z
UID:10009947-1776016800-1776016800@mypromisefm.com
SUMMARY:West Coast Mennonite Men's Chorus Concert
DESCRIPTION:  \nEstablished in 1978\, the WCMMC has been blessed with the honor of worshipping our Lord through music and also raising funds for relief work around the world. This group of committed men who love to sing have joined together to form the West Coast Mennonite Men’s Chorus. Although rich in the Mennonite tradition of singing as a significant form or worship\, this group now represents men from many walks of life and various churches who commit their time and talent to this time-honored endeavor. Centered in the Fresno\, California area\, singers come from surrounding cities and states to practice and perform.  \nSeveral concerts are performed each year. Funds raised through free-will offerings at each concert help support the projects associated with disaster relief and humanitarian efforts throughout the world.  The chorus has been an active supporter of world relief projects throughout the chorus history; more than $550\,000 has been raised to date. All funds raised go to directly to the project. The expenses associated with the operation of the chorus are covered through sponsor donations and underwriting by members of the chorus itself. \nThis concert is free\, but a love offering will be taken for their ministry.
URL:https://mypromisefm.com/event/west-coast-mennonite-mens-chorus-concert-3/
LOCATION:First Presbyterian Church\, 1540 M Street\, Fresno\, CA\, United States
CATEGORIES:Concert
END:VEVENT
BEGIN:VEVENT
DTSTART;TZID=America/Los_Angeles:20191201T150000
DTEND;TZID=America/Los_Angeles:20191201T180000
DTSTAMP:20260422T160231
CREATED:20191111T233104Z
LAST-MODIFIED:20191111T233104Z
UID:10007165-1575212400-1575223200@mypromisefm.com
SUMMARY:43rd Annual Messiah Sing Along
DESCRIPTION:The 43rd annual Messiah Sing-Along will be held on Sunday\, December 1\, at 3pm\, at First Presbyterian Church of Fresno\, at M and Calaveras Streets. \nThis traditional event is expected to attract up to 700 singers are listeners! Dr. Julie Carter\, Director of Music at First Presbyterian Church\, will direct her 23rd Sing-Along. The orchestra is organized by Gaylene Jo and Dr. Walter Saul will accompany the organ. \nMusic will be for sale at the door for $10. There is no admission charge; those attending are encouraged to help feed the needy this Christmas season by bringing a non-perishable food item (canned soup\, dry pasta\, or pasta sauce). Following the performance\, the church will serve a free soup and bread supper; donations to help defray expenses will be welcomed. \nFor more information\, please contact First Presbyterian Church at (559) 485-6460
URL:https://mypromisefm.com/event/43rd-annual-messiah-sing-along/
LOCATION:First Presbyterian Church\, 1540 M Street\, Fresno\, CA\, United States
END:VEVENT
END:VCALENDAR