BEGIN:VCALENDAR
VERSION:2.0
PRODID:-//MyPromiseFM - ECPv6.15.20//NONSGML v1.0//EN
CALSCALE:GREGORIAN
METHOD:PUBLISH
X-WR-CALNAME:MyPromiseFM
X-ORIGINAL-URL:https://mypromisefm.com
X-WR-CALDESC:Events for MyPromiseFM
REFRESH-INTERVAL;VALUE=DURATION:PT1H
X-Robots-Tag:noindex
X-PUBLISHED-TTL:PT1H
BEGIN:VTIMEZONE
TZID:America/Los_Angeles
BEGIN:DAYLIGHT
TZOFFSETFROM:-0800
TZOFFSETTO:-0700
TZNAME:PDT
DTSTART:20180311T100000
END:DAYLIGHT
BEGIN:STANDARD
TZOFFSETFROM:-0700
TZOFFSETTO:-0800
TZNAME:PST
DTSTART:20181104T090000
END:STANDARD
BEGIN:DAYLIGHT
TZOFFSETFROM:-0800
TZOFFSETTO:-0700
TZNAME:PDT
DTSTART:20190310T100000
END:DAYLIGHT
BEGIN:STANDARD
TZOFFSETFROM:-0700
TZOFFSETTO:-0800
TZNAME:PST
DTSTART:20191103T090000
END:STANDARD
BEGIN:DAYLIGHT
TZOFFSETFROM:-0800
TZOFFSETTO:-0700
TZNAME:PDT
DTSTART:20200308T100000
END:DAYLIGHT
BEGIN:STANDARD
TZOFFSETFROM:-0700
TZOFFSETTO:-0800
TZNAME:PST
DTSTART:20201101T090000
END:STANDARD
END:VTIMEZONE
BEGIN:VEVENT
DTSTART;TZID=America/Los_Angeles:20191207T180000
DTEND;TZID=America/Los_Angeles:20191207T210000
DTSTAMP:20260419T151941
CREATED:20191128T061920Z
LAST-MODIFIED:20191128T061920Z
UID:10007167-1575741600-1575752400@mypromisefm.com
SUMMARY:One Starry Night
DESCRIPTION:Step back in time to a “real-life” Bethlehem\, exploring the events of Jesus’ miraculous birth in an interactive marketplace setting. Kids will play games\, explore Bethlehem during the census\, and create keepsakes that will forever remind them of their journey and the Christmas story. Parents accompany their children for a full family experience. Free event. Please pre-register. Dinner included.
URL:https://mypromisefm.com/event/one-starry-night/
LOCATION:Fresno Sunnyside SDA Church\, 5375 N Maroa\, Fresno\, CA\, 93704\, United States
ATTACH;FMTTYPE=image/jpeg:https://mypromisefm.com/wp-content/uploads/2019/11/one-starry-night-teaser.jpg
ORGANIZER;CN="Fresno Sunnyside SDA Church":MAILTO:Churchoffice@sunnysidesda.org
GEO:36.8155492;-119.7996605
X-APPLE-STRUCTURED-LOCATION;VALUE=URI;X-ADDRESS=Fresno Sunnyside SDA Church 5375 N Maroa Fresno CA 93704 United States;X-APPLE-RADIUS=500;X-TITLE=5375 N Maroa:geo:-119.7996605,36.8155492
END:VEVENT
END:VCALENDAR