BEGIN:VCALENDAR
VERSION:2.0
PRODID:-//MyPromiseFM - ECPv6.15.20//NONSGML v1.0//EN
CALSCALE:GREGORIAN
METHOD:PUBLISH
X-ORIGINAL-URL:https://mypromisefm.com
X-WR-CALDESC:Events for MyPromiseFM
REFRESH-INTERVAL;VALUE=DURATION:PT1H
X-Robots-Tag:noindex
X-PUBLISHED-TTL:PT1H
BEGIN:VTIMEZONE
TZID:America/Los_Angeles
BEGIN:DAYLIGHT
TZOFFSETFROM:-0800
TZOFFSETTO:-0700
TZNAME:PDT
DTSTART:20220313T100000
END:DAYLIGHT
BEGIN:STANDARD
TZOFFSETFROM:-0700
TZOFFSETTO:-0800
TZNAME:PST
DTSTART:20221106T090000
END:STANDARD
BEGIN:DAYLIGHT
TZOFFSETFROM:-0800
TZOFFSETTO:-0700
TZNAME:PDT
DTSTART:20230312T100000
END:DAYLIGHT
BEGIN:STANDARD
TZOFFSETFROM:-0700
TZOFFSETTO:-0800
TZNAME:PST
DTSTART:20231105T090000
END:STANDARD
BEGIN:DAYLIGHT
TZOFFSETFROM:-0800
TZOFFSETTO:-0700
TZNAME:PDT
DTSTART:20240310T100000
END:DAYLIGHT
BEGIN:STANDARD
TZOFFSETFROM:-0700
TZOFFSETTO:-0800
TZNAME:PST
DTSTART:20241103T090000
END:STANDARD
BEGIN:DAYLIGHT
TZOFFSETFROM:-0800
TZOFFSETTO:-0700
TZNAME:PDT
DTSTART:20250309T100000
END:DAYLIGHT
BEGIN:STANDARD
TZOFFSETFROM:-0700
TZOFFSETTO:-0800
TZNAME:PST
DTSTART:20251102T090000
END:STANDARD
BEGIN:DAYLIGHT
TZOFFSETFROM:-0800
TZOFFSETTO:-0700
TZNAME:PDT
DTSTART:20260308T100000
END:DAYLIGHT
BEGIN:STANDARD
TZOFFSETFROM:-0700
TZOFFSETTO:-0800
TZNAME:PST
DTSTART:20261101T090000
END:STANDARD
END:VTIMEZONE
BEGIN:VEVENT
DTSTART;TZID=America/Los_Angeles:20250222T080000
DTEND;TZID=America/Los_Angeles:20250222T170000
DTSTAMP:20260421T111234
CREATED:20250123T035725Z
LAST-MODIFIED:20250123T040246Z
UID:10008495-1740211200-1740243600@mypromisefm.com
SUMMARY:The "Radically Transformed" Marriage Conference
DESCRIPTION:Even the best marriages can face challenges. That’s why it’s important to take time to intentionally invest in your relationship. Attending a marriage conference is a great way to refresh and realign your marriage. At this conference\, you’ll learn how God designed couples to share life together and grow in unity. \nThis interactive event features experienced speakers who will share practical insights and biblical principles for marriage. Throughout the day\, couples will have opportunities to privately discuss what they’re learning and apply it to their own relationship. \nHosted by the Rise Church Marriage Ministry Team\, this conference is more than just a one-day experience in Visalia. Our Team is committed to walking alongside you and providing resources to help your marriage thrive throughout the year. \nDon’t miss this opportunity to invest in your relationship and be part of a community focused on building stronger\, God-honoring marriages. Register today!
URL:https://mypromisefm.com/event/the-radically-transformed-marriage-conference/
LOCATION:Rise Church\, 1023 N Chinowth St.\, Visalia\, CA\, 93291\, United States
ATTACH;FMTTYPE=image/jpeg:https://mypromisefm.com/wp-content/uploads/2025/01/Rise-Marriage-Conference-2025-e1737604953684.jpg
ORGANIZER;CN="Unnamed Organizer":MAILTO:ifmypeople2012@yahoo.com
GEO:36.2989118;-119.3535101
X-APPLE-STRUCTURED-LOCATION;VALUE=URI;X-ADDRESS=Rise Church 1023 N Chinowth St. Visalia CA 93291 United States;X-APPLE-RADIUS=500;X-TITLE=1023 N Chinowth St.:geo:-119.3535101,36.2989118
END:VEVENT
BEGIN:VEVENT
DTSTART;TZID=America/Los_Angeles:20250128T180000
DTEND;TZID=America/Los_Angeles:20250128T193000
DTSTAMP:20260421T111234
CREATED:20241107T070250Z
LAST-MODIFIED:20241204T040256Z
UID:10008485-1738087200-1738092600@mypromisefm.com
SUMMARY:Join the new Christian Community Choir for Visalia and Tulare
DESCRIPTION:The Visalia and Tulare County area is starting a Community Christian Choir group.  The purpose is to bring together people from the community to perform a new musical called “Behold He Comes.”  This is based on the Book of Revelation and the coming return of Jesus Christ.  Singers\, instrumentalists\, readers\, support staff are all invited to join this exciting new musical.  These are volunteer positions for this musical.  We meet on Tuesdays at 6pm in Visalia.  For more information\, please call Raymond at 559-345-9712.
URL:https://mypromisefm.com/event/join-the-new-christian-community-choir-for-visalia-and-tulare/2025-01-28/
LOCATION:Rise Church\, 1023 N Chinowth St.\, Visalia\, CA\, 93291\, United States
ORGANIZER;CN="Behold He Comes":MAILTO:boyd.wilson@gmail.com
GEO:36.2989118;-119.3535101
X-APPLE-STRUCTURED-LOCATION;VALUE=URI;X-ADDRESS=Rise Church 1023 N Chinowth St. Visalia CA 93291 United States;X-APPLE-RADIUS=500;X-TITLE=1023 N Chinowth St.:geo:-119.3535101,36.2989118
END:VEVENT
BEGIN:VEVENT
DTSTART;TZID=America/Los_Angeles:20231028T080000
DTEND;TZID=America/Los_Angeles:20231028T170000
DTSTAMP:20260421T111234
CREATED:20230913T021716Z
LAST-MODIFIED:20230913T021716Z
UID:10007442-1698480000-1698512400@mypromisefm.com
SUMMARY:The Art of Marriage Conference
DESCRIPTION:Location:  Rise Church\, 5702 W Caldwell Ave\, Visalia\, CA 93277 \nTime/date:  8am to 5pm on Saturday\, Oct. 28\, 2023 \nCost: $80/couple \nYou’re invited to Family Life’s Art of Marriage Conference in Visalia on Oct. 28. \nThis marriage conference weaves together expert teaching\, real life stories\, humorous vignettes\, and more to portray both the challenges and the beauty of God’s design for marriage.   \n 
URL:https://mypromisefm.com/event/the-art-of-marriage-conference/
LOCATION:Rise Church\, 1023 N Chinowth St.\, Visalia\, CA\, 93291\, United States
GEO:36.2989118;-119.3535101
X-APPLE-STRUCTURED-LOCATION;VALUE=URI;X-ADDRESS=Rise Church 1023 N Chinowth St. Visalia CA 93291 United States;X-APPLE-RADIUS=500;X-TITLE=1023 N Chinowth St.:geo:-119.3535101,36.2989118
END:VEVENT
END:VCALENDAR