BEGIN:VCALENDAR
VERSION:2.0
PRODID:-//MyPromiseFM - ECPv6.15.20//NONSGML v1.0//EN
CALSCALE:GREGORIAN
METHOD:PUBLISH
X-ORIGINAL-URL:https://mypromisefm.com
X-WR-CALDESC:Events for MyPromiseFM
REFRESH-INTERVAL;VALUE=DURATION:PT1H
X-Robots-Tag:noindex
X-PUBLISHED-TTL:PT1H
BEGIN:VTIMEZONE
TZID:America/Los_Angeles
BEGIN:DAYLIGHT
TZOFFSETFROM:-0800
TZOFFSETTO:-0700
TZNAME:PDT
DTSTART:20240310T100000
END:DAYLIGHT
BEGIN:STANDARD
TZOFFSETFROM:-0700
TZOFFSETTO:-0800
TZNAME:PST
DTSTART:20241103T090000
END:STANDARD
BEGIN:DAYLIGHT
TZOFFSETFROM:-0800
TZOFFSETTO:-0700
TZNAME:PDT
DTSTART:20250309T100000
END:DAYLIGHT
BEGIN:STANDARD
TZOFFSETFROM:-0700
TZOFFSETTO:-0800
TZNAME:PST
DTSTART:20251102T090000
END:STANDARD
BEGIN:DAYLIGHT
TZOFFSETFROM:-0800
TZOFFSETTO:-0700
TZNAME:PDT
DTSTART:20260308T100000
END:DAYLIGHT
BEGIN:STANDARD
TZOFFSETFROM:-0700
TZOFFSETTO:-0800
TZNAME:PST
DTSTART:20261101T090000
END:STANDARD
END:VTIMEZONE
BEGIN:VEVENT
DTSTART;TZID=America/Los_Angeles:20250801T090000
DTEND;TZID=America/Los_Angeles:20250801T170000
DTSTAMP:20260419T132416
CREATED:20250507T020450Z
LAST-MODIFIED:20250507T020450Z
UID:10008517-1754038800-1754067600@mypromisefm.com
SUMMARY:37th Annual Kaweah Health Golf Classic
DESCRIPTION: 
URL:https://mypromisefm.com/event/37th-annual-kaweah-health-golf-classic/
LOCATION:Visalia Country Club\, 625 N. Ranch Street\, Visalia\, CA\, 93291\, United States
GEO:36.335756;-119.32376
X-APPLE-STRUCTURED-LOCATION;VALUE=URI;X-ADDRESS=Visalia Country Club 625 N. Ranch Street Visalia CA 93291 United States;X-APPLE-RADIUS=500;X-TITLE=625 N. Ranch Street:geo:-119.32376,36.335756
END:VEVENT
END:VCALENDAR