BEGIN:VCALENDAR
VERSION:2.0
PRODID:-//MyPromiseFM - ECPv6.15.20//NONSGML v1.0//EN
CALSCALE:GREGORIAN
METHOD:PUBLISH
X-ORIGINAL-URL:https://mypromisefm.com
X-WR-CALDESC:Events for MyPromiseFM
REFRESH-INTERVAL;VALUE=DURATION:PT1H
X-Robots-Tag:noindex
X-PUBLISHED-TTL:PT1H
BEGIN:VTIMEZONE
TZID:America/Los_Angeles
BEGIN:DAYLIGHT
TZOFFSETFROM:-0800
TZOFFSETTO:-0700
TZNAME:PDT
DTSTART:20230312T100000
END:DAYLIGHT
BEGIN:STANDARD
TZOFFSETFROM:-0700
TZOFFSETTO:-0800
TZNAME:PST
DTSTART:20231105T090000
END:STANDARD
BEGIN:DAYLIGHT
TZOFFSETFROM:-0800
TZOFFSETTO:-0700
TZNAME:PDT
DTSTART:20240310T100000
END:DAYLIGHT
BEGIN:STANDARD
TZOFFSETFROM:-0700
TZOFFSETTO:-0800
TZNAME:PST
DTSTART:20241103T090000
END:STANDARD
BEGIN:DAYLIGHT
TZOFFSETFROM:-0800
TZOFFSETTO:-0700
TZNAME:PDT
DTSTART:20250309T100000
END:DAYLIGHT
BEGIN:STANDARD
TZOFFSETFROM:-0700
TZOFFSETTO:-0800
TZNAME:PST
DTSTART:20251102T090000
END:STANDARD
END:VTIMEZONE
BEGIN:VEVENT
DTSTART;TZID=America/Los_Angeles:20240722T080000
DTEND;TZID=America/Los_Angeles:20240726T120000
DTSTAMP:20260423T041557
CREATED:20240627T032948Z
LAST-MODIFIED:20240627T032948Z
UID:10008386-1721635200-1721995200@mypromisefm.com
SUMMARY:Dinuba VBS
DESCRIPTION:
URL:https://mypromisefm.com/event/dinuba-vbs/
LOCATION:Washington Intermediate School\, 1150 N. Hayes at Sequoia\, Dinuba\, CA\, 93618\, United States
GEO:36.55446;-119.3812251
X-APPLE-STRUCTURED-LOCATION;VALUE=URI;X-ADDRESS=Washington Intermediate School 1150 N. Hayes at Sequoia Dinuba CA 93618 United States;X-APPLE-RADIUS=500;X-TITLE=1150 N. Hayes at Sequoia:geo:-119.3812251,36.55446
END:VEVENT
END:VCALENDAR